{"text_format":"3","workbook":"xlsx","n_sheets":9,"sheets":["титульный лист","Раздел 1","справочно","Раздел 2","Раздел 3","Раздел 4","Обоснования доходов","Обоснования расходов","Приложение 3"],"not_rendered":{"defined_names":8},"read":"whole","date_system":"1900"}

{"sheet":"титульный лист","index":0,"n_rows":33,"n_cols":93,"rows_kept":33,"merged":[[0,56,0,107],[2,56,2,107],[3,56,3,107],[4,56,4,107],[5,56,5,75],[5,77,5,107],[6,56,6,75],[6,77,6,107],[7,59,7,62],[7,66,7,80],[7,81,7,84],[7,85,7,87],[9,0,9,107],[10,0,10,107],[11,0,11,107],[13,39,13,42],[13,46,13,60],[13,61,13,64],[13,65,13,67],[17,92,17,107],[18,79,18,91],[18,92,18,107],[19,0,19,26],[19,28,19,70],[19,71,19,91],[19,92,19,107],[20,79,20,91],[20,92,20,107],[21,0,21,27],[21,28,21,70],[21,71,21,91],[21,92,21,107],[22,79,22,91],[22,92,22,107],[23,79,23,91],[23,92,23,107],[24,79,24,91],[24,92,24,107],[25,0,25,107],[26,0,26,107],[27,0,27,107],[30,0,30,107],[31,0,31,107],[32,0,32,107]]}
[]
[]
[{"$nulls":56},"УТВЕРЖДАЮ"]
[{"$nulls":56},"Директор"]
[{"$nulls":56},"(наименование должности лица, утверждающего документ)"]
[{"$nulls":77},"Д.В. Шевченко"]
[{"$nulls":56},"(подпись)",{"$nulls":20},"(расшифровка подписи)"]
[{"$nulls":58},"\"","30",{"$nulls":3},"\"",null,null,"сентября",{"$nulls":14},20,{"$nulls":3},"25",null,null," г."]
[]
["План "]
["финансово-хозяйственной деятельности на 2025 год"]
[" (на 2025 год и плановый период 2026 и 2027 годов)<1>"]
[]
[{"$nulls":38},"\"","30",{"$nulls":3},"\"",null,null,"сентября",{"$nulls":14},20,{"$nulls":3},"25",null,null," г.",null,null,"<2>"]
[]
[]
[]
[{"$nulls":92},"КОДЫ"]
[{"$nulls":79},"Дата",{"$nulls":12},"30.09.2025"]
["Наименование учреждения",{"$nulls":27},"Государственное автономное образовательное учреждение Мурманской области \"Полярнозоринский энергетический колледж\"",{"$nulls":42},"по Сводному реестру\n",{"$nulls":20},"472Ц8191"]
[{"$nulls":79},"глава по БК\n",{"$nulls":12},"804"]
["Орган, осуществляющий функции и полномочия учредителя",{"$nulls":27},"Министерство образования и науки Мурманской облати",{"$nulls":42},"по Сводному реестру\n",{"$nulls":20},"47200021"]
[{"$nulls":79},"ИНН\n",{"$nulls":12},"5102006924"]
["Единица измерения: рубли",{"$nulls":78},"КПП\n",{"$nulls":12},"510201001"]
[{"$nulls":79},"по ОКЕИ\n",{"$nulls":12},"383"]
["Юридический адрес учреждения: 184230, Мурманская обл., г. Полярные Зори, ул. Курчатова, д. 24"]
["Адрес фактического местонахождения учреждения: 184230, Мурманская обл., г. Полярные Зори, ул. Курчатова, д. 24"]
[]
[]
[]
[]
["<1> Указывается финансовый год,если закон об областном бюджете утверждается на один финансовый год, либо финансовый год и плановый период, если закон об областном бюджете утверждается на очередной финансовый год и плановый период "]
["<2> Указывается  дата  подписания  Плана, а в случае утверждения Плана уполномоченным лицом учреждения - дата утверждения Плана."]

{"sheet":"Раздел 1","index":1,"n_rows":130,"n_cols":7,"rows_kept":130,"merged":[[0,0,0,6],[2,0,3,0],[2,1,3,1],[2,2,3,2],[2,3,2,6],[8,1,9,1],[8,2,9,2],[8,3,9,3],[8,4,9,4],[8,5,9,5],[8,6,9,6],[11,1,12,1],[11,2,12,2],[11,3,12,3],[11,4,12,4],[11,5,12,5],[11,6,12,6],[14,1,15,1],[14,2,15,2],[14,3,15,3],[14,4,15,4],[14,5,15,5],[14,6,15,6],[18,1,19,1],[18,2,19,2],[18,3,19,3],[18,4,19,4],[18,5,19,5],[18,6,19,6],[23,1,24,1],[23,2,24,2],[23,3,24,3],[23,4,24,4],[23,5,24,5],[23,6,24,6],[26,1,27,1],[26,2,27,2],[26,3,27,3],[26,4,27,4],[26,5,27,5],[26,6,27,6],[40,1,41,1],[40,2,41,2],[40,3,41,3],[40,4,41,4],[40,5,41,5],[40,6,41,6],[42,1,43,1],[42,2,43,2],[42,3,43,3],[42,4,43,4],[42,5,43,5],[42,6,43,6],[47,1,48,1],[47,2,48,2],[47,3,48,3],[47,4,48,4],[47,5,48,5],[47,6,48,6],[54,1,55,1],[54,2,55,2],[54,3,55,3],[54,4,55,4],[54,5,55,5],[54,6,55,6],[57,1,58,1],[57,2,58,2],[57,3,58,3],[57,4,58,4],[57,5,58,5],[57,6,58,6],[59,1,60,1],[59,2,60,2],[59,3,60,3],[59,4,60,4],[59,5,60,5],[59,6,60,6],[66,1,67,1],[66,2,67,2],[66,3,67,3],[66,4,67,4],[66,5,67,5],[66,6,67,6],[71,1,72,1],[71,2,72,2],[71,3,72,3],[71,4,72,4],[71,5,72,5],[71,6,72,6],[81,1,82,1],[81,2,82,2],[81,3,82,3],[81,4,82,4],[81,5,82,5],[81,6,82,6],[85,1,86,1],[85,2,86,2],[85,3,86,3],[85,4,86,4],[85,5,86,5],[85,6,86,6],[91,1,92,1],[91,2,92,2],[91,3,92,3],[91,4,92,4],[91,5,92,5],[91,6,92,6],[95,1,96,1],[95,2,96,2],[95,3,96,3],[95,4,96,4],[95,5,96,5],[95,6,96,6],[100,1,101,1],[100,2,101,2],[100,3,101,3],[100,4,101,4],[100,5,101,5],[100,6,101,6],[110,1,111,1],[110,2,111,2],[110,3,111,3],[110,4,111,4],[110,5,111,5],[110,6,111,6],[115,1,116,1],[115,2,116,2],[115,3,116,3],[115,4,116,4],[115,5,116,5],[115,6,116,6],[120,1,121,1],[120,2,121,2],[120,3,121,3],[120,4,121,4],[120,5,121,5],[120,6,121,6],[124,0,124,6],[125,0,125,6],[126,0,126,6],[127,0,127,6],[128,0,128,6],[129,0,129,6]]}
["Раздел 1. Поступления и выплаты"]
[]
["Наименование показателя","Код строки","Код по БК РФ <3>"]
[{"$nulls":3},"на 2025 г. текущий финансовый год","на 2026 г. (1-й год планового периода)","на 2027 г. (2-й год планового периода)","за пределами планового периода"]
[1,2,3,4,5,6,7]
["Остаток средств на начало текущего финансового года <4>","0001","x",{"$f":"справочно!D8","v":{"v":1301831.55,"d":"1,301,831.55"}},{"$f":"D6","v":{"v":1301831.55,"d":"1,301,831.55"}},{"$f":"D6","v":{"v":1301831.55,"d":"1,301,831.55"}}]
["Остаток средств на конец текущего финансового года <4>","0002","x",{"$f":"D6+D8-D40+D115-D120","v":{"v":-1.1350493878126144E-8,"d":"-0.00"}},{"$f":"E6+E8-E40+E115-E120","v":{"v":-1.1350493878126144E-8,"d":"-0.00"}},{"$f":"F6+F8-F40+F115-F120","v":{"v":-1.1350493878126144E-8,"d":"-0.00"}}]
["Доходы, всего:",1000,null,{"$f":"D11+D15+D18+D23+D26+D33+D36","v":{"v":128950901,"d":"128,950,901.00"}},{"$f":"E11+E15+E18+E23+E26+E33+E36","v":{"v":128950901,"d":"128,950,901.00"}},{"$f":"F11+F15+F18+F23+F26+F33+F36","v":{"v":128950901,"d":"128,950,901.00"}}]
["в том числе:"]
[]
["доходы от собственности, всего",1100,120,{"$f":"справочно!D12","v":{"v":746072.22,"d":"746,072.22"}},{"$f":"D11","v":{"v":746072.22,"d":"746,072.22"}},{"$f":"D11","v":{"v":746072.22,"d":"746,072.22"}}]
["в том числе:",1110,120,{"$f":"D11","v":{"v":746072.22,"d":"746,072.22"}},{"$f":"D12","v":{"v":746072.22,"d":"746,072.22"}},{"$f":"D12","v":{"v":746072.22,"d":"746,072.22"}}]
[]
["доходы от оказания услуг, работ, компенсации затрат учреждений, всего",1200,130,{"$f":"D15+D18","v":{"v":93883581.56,"d":"93,883,581.56"}},{"$f":"D14","v":{"v":93883581.56,"d":"93,883,581.56"}},{"$f":"D14","v":{"v":93883581.56,"d":"93,883,581.56"}}]
["в том числе:",1210,130,{"$f":"справочно!E14","v":{"v":91031400,"d":"91,031,400.00"}},{"$f":"D15","v":{"v":91031400,"d":"91,031,400.00"}},{"$f":"E15","v":{"v":91031400,"d":"91,031,400.00"}}]
["субсидии на финансовое обеспечение выполнения государственного (муниципального) задания за счет средств бюджета публично-правового образования, создавшего учреждение"]
["субсидии на финансовое обеспечение выполнения государственного задания за счет средств бюджета Федерального фонда обязательного медицинского страхования",1220,130,{"v":0,"d":"0.00"},{"v":0,"d":"0.00"},{"v":0,"d":"0.00"}]
["поступления от оказания услуг (выполнения работ) на платной основе и от иной приносящей доход деятельности",1230,130,{"$f":"справочно!H14","v":{"v":2852181.56,"d":"2,852,181.56"}},{"$f":"D18","v":{"v":2852181.56,"d":"2,852,181.56"}},{"$f":"D18","v":{"v":2852181.56,"d":"2,852,181.56"}}]
["из них:                           ",1231,130,{"v":0,"d":"0.00"},{"v":0,"d":"0.00"},{"v":0,"d":"0.00"}]
["государственные услуги"]
["дополнительные платные услуги",1232,130,{"$f":"D18","v":{"v":2852181.56,"d":"2,852,181.56"}},{"$f":"D21","v":{"v":2852181.56,"d":"2,852,181.56"}},{"$f":"D21","v":{"v":2852181.56,"d":"2,852,181.56"}}]
["прочие поступления",1233,130,{"v":0,"d":"0.00"},{"v":0,"d":"0.00"},{"v":0,"d":"0.00"}]
["доходы от штрафов, пеней, иных сумм принудительного изъятия, всего",1300,140,{"$f":"D24","v":{"v":0,"d":"0.00"}},{"$f":"D23","v":{"v":0,"d":"0.00"}},{"$f":"E23","v":{"v":0,"d":"0.00"}}]
["в том числе:",1310,140,{"$f":"справочно!D19","v":{"v":0,"d":"0.00"}},{"$f":"D24","v":{"v":0,"d":"0.00"}},{"$f":"E24","v":{"v":0,"d":"0.00"}}]
[]
["безвозмездные денежные поступления, всего",1400,150,{"$f":"справочно!D22","v":{"v":33985967,"d":"33,985,967.00"}},{"$f":"D26","v":{"v":33985967,"d":"33,985,967.00"}},{"$f":"D26","v":{"v":33985967,"d":"33,985,967.00"}}]
["в том числе:",1410,150,{"$f":"справочно!D24","v":{"v":22672267,"d":"22,672,267.00"}},{"$f":"D27","v":{"v":22672267,"d":"22,672,267.00"}},{"$f":"E27","v":{"v":22672267,"d":"22,672,267.00"}}]
["целевые субсидии"]
["субсидии на осуществление капитальных вложений",1420,150,{"v":0,"d":"0.00"},{"v":0,"d":"0.00"},{"v":0,"d":"0.00"}]
["прочие доходы, всего",1500,180,{"v":0,"d":"0.00"},{"v":0,"d":"0.00"},{"v":0,"d":"0.00"}]
["в том числе:"]
[]
["доходы от операций с активами, всего",1900,440,{"$f":"справочно!D43","v":{"v":335280.22,"d":"335,280.22"}},{"$f":"D33","v":{"v":335280.22,"d":"335,280.22"}},{"$f":"D33","v":{"v":335280.22,"d":"335,280.22"}}]
["в том числе:"]
[]
["прочие поступления, всего <5>",1980,"x",{"$f":"D38","v":{"v":0,"d":"0.00"}},{"$f":"E38","v":{"v":0,"d":"0.00"}},{"$f":"F38","v":{"v":0,"d":"0.00"}}]
["из них:"]
["увеличение остатков денежных средств за счет возврата дебиторской задолженности прошлых лет",1981,510,{"$f":"справочно!D47","v":{"v":0,"d":"0.00"}},{"$f":"D38","v":{"v":0,"d":"0.00"}},{"$f":"D38","v":{"v":0,"d":"0.00"}},"x"]
[]
["Расходы, всего",2000,"x",{"$f":"D41+D57+D66+D71+D79+D81+D110+D114","v":{"v":129803330.71000001,"d":"129,803,330.71"}},{"$f":"E41+E57+E66+E71+E79+E81+E110+E114","v":{"v":129803330.71000001,"d":"129,803,330.71"}},{"$f":"F41+F57+F66+F71+F79+F81+F110+F1131","v":{"v":129803330.71000001,"d":"129,803,330.71"}}]
["в том числе:",2100,"x",{"$f":"D43+D45+D46+D47","v":{"v":79389305.81,"d":"79,389,305.81"}},{"$f":"E43+E45+E46+E47","v":{"v":79389305.81,"d":"79,389,305.81"}},{"$f":"E41","v":{"v":79389305.81,"d":"79,389,305.81"}},"x"]
["на выплаты персоналу, всего"]
["в том числе:",2110,111,{"$f":"справочно!D50","v":{"v":60131036.57,"d":"60,131,036.57"}},{"$f":"D43","v":{"v":60131036.57,"d":"60,131,036.57"}},{"$f":"E43","v":{"v":60131036.57,"d":"60,131,036.57"}},"x"]
["оплата труда"]
["прочие выплаты персоналу, в том числе компенсационного характера",2120,112,{"$f":"справочно!D51","v":{"v":1027178.27,"d":"1,027,178.27"}},{"$f":"D45","v":{"v":1027178.27,"d":"1,027,178.27"}},{"$f":"D45","v":{"v":1027178.27,"d":"1,027,178.27"}},"x"]
["иные выплаты, за исключением фонда оплаты труда учреждения, для выполнения отдельных полномочий",2130,113,{"$f":"справочно!D52","v":{"v":67390,"d":"67,390.00"}},{"$f":"D46","v":{"v":67390,"d":"67,390.00"}},{"$f":"D46","v":{"v":67390,"d":"67,390.00"}},"x"]
["взносы по обязательному социальному страхованию на выплаты по оплате труда работников и иные выплаты работникам учреждений, всего",2140,119,{"$f":"справочно!D53","v":{"v":18163700.97,"d":"18,163,700.97"}},{"$f":"D47","v":{"v":18163700.97,"d":"18,163,700.97"}},{"$f":"E47","v":{"v":18163700.97,"d":"18,163,700.97"}},"x"]
["в том числе:",2141,119,{"$f":"(справочно!D54)","v":{"v":18130929.24,"d":"18,130,929.24"}},{"$f":"E47","v":{"v":18163700.97,"d":"18,163,700.97"}},{"$f":"E48","v":{"v":18163700.97,"d":"18,163,700.97"}},"x"]
["на выплаты по оплате труда"]
["на иные выплаты работникам",2142,119,{"$f":"справочно!D55","v":{"v":32771.73,"d":"32,771.73"}},{"$f":"D50","v":{"v":32771.73,"d":"32,771.73"}},{"$f":"D50","v":{"v":32771.73,"d":"32,771.73"}},"x"]
["денежное довольствие военнослужащих и сотрудников, имеющих специальные звания",2150,131,{"v":0,"d":"0.00"},{"v":0,"d":"0.00"},{"v":0,"d":"0.00"},"x"]
["расходы на выплаты военнослужащим и сотрудникам, имеющим специальные звания, зависящие от размера денежного довольствия",2160,133,{"v":0,"d":"0.00"},{"v":0,"d":"0.00"},{"v":0,"d":"0.00"}]
["иные выплаты военнослужащим и сотрудникам, имеющим специальные звания",2170,134,{"v":0,"d":"0.00"},{"v":0,"d":"0.00"},{"v":0,"d":"0.00"},"x"]
["страховые взносы на обязательное социальное страхование в части выплат персоналу, подлежащих обложению страховыми взносами",2180,139,{"v":0,"d":"0.00"},{"v":0,"d":"0.00"},{"v":0,"d":"0.00"},"x"]
["в том числе:",2181,139,{"v":0,"d":"0.00"},{"v":0,"d":"0.00"},{"v":0,"d":"0.00"},"x"]
["на оплату труда стажеров"]
["социальные и иные выплаты населению, всего",2200,300,{"$f":"справочно!D61","v":{"v":13238200,"d":"13,238,200.00"}},{"$f":"D57","v":{"v":13238200,"d":"13,238,200.00"}},{"$f":"D57","v":{"v":13238200,"d":"13,238,200.00"}},"x"]
["в том числе:",2210,320,{"$f":"D60+D62","v":{"v":7600400,"d":"7,600,400.00"}},{"$f":"D58","v":{"v":7600400,"d":"7,600,400.00"}},{"$f":"D58","v":{"v":7600400,"d":"7,600,400.00"}},"x"]
["социальные выплаты гражданам, кроме публичных нормативных социальных выплат"]
["из них:",2211,321,{"$f":"справочно!D63","v":{"v":3090585,"d":"3,090,585.00"}},{"$f":"D60","v":{"v":3090585,"d":"3,090,585.00"}},{"$f":"D60","v":{"v":3090585,"d":"3,090,585.00"}},"x"]
["пособия, компенсации и иные социальные выплаты гражданам, кроме публичных нормативных обязательств"]
["приобретение товаров, работ, услуг в пользу граждан в целях их социального обеспечения",2212,323,{"$f":"справочно!D64","v":{"v":4509815,"d":"4,509,815.00"}},{"$f":"D62","v":{"v":4509815,"d":"4,509,815.00"}},{"$f":"D62","v":{"v":4509815,"d":"4,509,815.00"}},"x"]
["выплата стипендий, осуществление иных расходов на социальную поддержку обучающихся за счет средств стипендиального фонда",2220,340,{"$f":"справочно!D65","v":{"v":5637800,"d":"5,637,800.00"}},{"$f":"D63","v":{"v":5637800,"d":"5,637,800.00"}},{"$f":"D63","v":{"v":5637800,"d":"5,637,800.00"}},"x"]
["на премирование физических лиц за достижения в области культуры, искусства, образования, науки и техники, а также на предоставление грантов с целью поддержки проектов в области науки, культуры и искусства",2230,350,{"$f":"справочно!D66","v":{"v":0,"d":"0.00"}},{"$f":"D64","v":{"v":0,"d":"0.00"}},{"$f":"D64","v":{"v":0,"d":"0.00"}},"x"]
["иные выплаты населению",2240,360,{"v":0,"d":"0.00"},{"v":0,"d":"0.00"},{"v":0,"d":"0.00"},"x"]
["уплата налогов, сборов и иных платежей, всего",2300,850,{"$f":"D67+D69+D70","v":{"v":2665545.45,"d":"2,665,545.45"}},{"$f":"D66","v":{"v":2665545.45,"d":"2,665,545.45"}},{"$f":"D66","v":{"v":2665545.45,"d":"2,665,545.45"}},"x"]
["в том числе:",2310,851,{"$f":"справочно!D70","v":{"v":2654199,"d":"2,654,199.00"}},{"$f":"D67","v":{"v":2654199,"d":"2,654,199.00"}},{"$f":"D67","v":{"v":2654199,"d":"2,654,199.00"}},"x"]
["налог на имущество организаций и земельный налог"]
["иные налоги (включаемые в состав расходов) в бюджеты бюджетной системы Российской Федерации, а также государственная пошлина",2320,852,{"$f":"справочно!D71","v":{"v":5410,"d":"5,410.00"}},{"$f":"D69","v":{"v":5410,"d":"5,410.00"}},{"$f":"D69","v":{"v":5410,"d":"5,410.00"}},"x"]
["уплата штрафов (в том числе административных), пеней, иных платежей",2330,853,{"$f":"справочно!D72","v":{"v":5936.45,"d":"5,936.45"}},{"$f":"D70","v":{"v":5936.45,"d":"5,936.45"}},{"$f":"D70","v":{"v":5936.45,"d":"5,936.45"}},"x"]
["безвозмездные перечисления организациям и физическим лицам, всего",2400,"x",{"v":0,"d":"0.00"},{"v":0,"d":"0.00"},{"v":0,"d":"0.00"},"x"]
["из них:",2410,613,{"v":0,"d":"0.00"},{"v":0,"d":"0.00"},{"v":0,"d":"0.00"},"x"]
["гранты, предоставляемые бюджетным учреждениям"]
["гранты, предоставляемые автономным учреждениям",2420,623,{"v":0,"d":"0.00"},{"v":0,"d":"0.00"},{"v":0,"d":"0.00"}]
["гранты, предоставляемые иным некоммерческим организациям (за исключением бюджетных и автомомных учреждений)",2430,634,{"v":0,"d":"0.00"},{"v":0,"d":"0.00"},{"v":0,"d":"0.00"}]
["гранты, предоставляемые другим организациям и физическим лицам",2440,810,{"v":0,"d":"0.00"},{"v":0,"d":"0.00"},{"v":0,"d":"0.00"}]
["взносы в международные организации",2450,862,{"v":0,"d":"0.00"},{"v":0,"d":"0.00"},{"v":0,"d":"0.00"}]
["платежи в целях обеспечения реализации соглашений с правительствами иностранных государств и международными организациями",2460,863,{"v":0,"d":"0.00"},{"v":0,"d":"0.00"},{"v":0,"d":"0.00"},"x"]
["прочие выплаты (кроме выплат на закупку товаров, работ, услуг)",2500,"x",{"v":0,"d":"0.00"},{"v":0,"d":"0.00"},{"v":0,"d":"0.00"},"x"]
["исполнение судебных актов Российской Федерации и мировых соглашений по возмещению вреда, причиненного в результате деятельности учреждения",2520,831,{"v":0,"d":"0.00"},{"v":0,"d":"0.00"},{"v":0,"d":"0.00"},"x"]
["расходы на закупку товаров, работ, услуг, всего <6>",2600,"x",{"$f":"D82+D84+D85+D108+D109","v":{"v":34510279.45,"d":"34,510,279.45"}},{"$f":"D81","v":{"v":34510279.45,"d":"34,510,279.45"}},{"$f":"E81","v":{"v":34510279.45,"d":"34,510,279.45"}}]
["в том числе:",2610,241,{"v":0,"d":"0.00"},{"v":0,"d":"0.00"},{"v":0,"d":"0.00"}]
["закупку научно-исследовательских и опытно-конструкторских работ"]
["закупку товаров, работ, услуг в целях капитального ремонта государственного (муниципального) имущества",2630,243,{"$f":"справочно!D87","v":{"v":1198000,"d":"1,198,000.00"}},{"$f":"D84","v":{"v":1198000,"d":"1,198,000.00"}},{"$f":"D84","v":{"v":1198000,"d":"1,198,000.00"}}]
["прочую закупку товаров, работ и услуг, всего",2640,244,{"$f":"D86+D88+D89+D90+D91+D95+D98+D99+D100","v":{"v":21714421.66,"d":"21,714,421.66"}},{"$f":"E86+E88+E89+E90+E91+E95+E98+E99+E100","v":{"v":21714421.66,"d":"21,714,421.66"}},{"$f":"E85","v":{"v":21714421.66,"d":"21,714,421.66"}}]
["в том числе:",2641,244,{"$f":"справочно!D90","v":{"v":117000,"d":"117,000.00"}},{"$f":"D86","v":{"v":117000,"d":"117,000.00"}},{"$f":"E86","v":{"v":117000,"d":"117,000.00"}}]
["   услуги связи"]
["   транспортные расходы",2642,244,{"$f":"справочно!D91","v":{"v":6000,"d":"6,000.00"}},{"$f":"D88","v":{"v":6000,"d":"6,000.00"}},{"$f":"E88","v":{"v":6000,"d":"6,000.00"}}]
["   коммунальные услуги",2643,244,{"$f":"справочно!D92","v":{"v":205800.78999999998,"d":"205,800.79"}},{"$f":"D89","v":{"v":205800.78999999998,"d":"205,800.79"}},{"$f":"E89","v":{"v":205800.78999999998,"d":"205,800.79"}}]
["   арендная плата за пользование имуществом",2644,244,{"$f":"справочно!D93","v":{"v":0,"d":"0.00"}},{"v":0,"d":"0.00"},{"v":0,"d":"0.00"}]
["   работы, услуги по содержанию имущества, всего",2645,244,{"$f":"справочно!D94","v":{"v":1629376.42,"d":"1,629,376.42"}},{"$f":"D91","v":{"v":1629376.42,"d":"1,629,376.42"}},{"$f":"D91","v":{"v":1629376.42,"d":"1,629,376.42"}}]
["в том числе:"]
["     текущий ремонт движимого имущества"]
["     текущий ремонт недвижимого имущества"]
["   прочие работы, услуги, всего",2646,244,{"$f":"справочно!D95","v":{"v":5869547,"d":"5,869,547.00"}},{"$f":"D95","v":{"v":5869547,"d":"5,869,547.00"}},{"$f":"D95","v":{"v":5869547,"d":"5,869,547.00"}}]
[" в том числе:"]
["      организация питания"]
["   страхование",2647,244,{"$f":"справочно!D96","v":{"v":15647.48,"d":"15,647.48"}},{"$f":"D98","v":{"v":15647.48,"d":"15,647.48"}},{"$f":"D98","v":{"v":15647.48,"d":"15,647.48"}}]
["   увеличение стоимости основных средств",2648,244,{"$f":"справочно!D97","v":{"v":10495166.18,"d":"10,495,166.18"}},{"$f":"D99","v":{"v":10495166.18,"d":"10,495,166.18"}},{"$f":"E99","v":{"v":10495166.18,"d":"10,495,166.18"}}]
["   увеличение стоимости материальных запасов, всего",2649,244,{"$f":"справочно!D98","v":{"v":3375883.79,"d":"3,375,883.79"}},{"$f":"D100","v":{"v":3375883.79,"d":"3,375,883.79"}},{"$f":"D100","v":{"v":3375883.79,"d":"3,375,883.79"}}]
["в том числе:",null,null,{"v":10258,"d":"10,258.00"},{"$f":"D101","v":{"v":10258,"d":"10,258.00"}},{"$f":"D101","v":{"v":10258,"d":"10,258.00"}}]
["      медикаменты и перевязочные средства"]
["      продукты питания",null,null,{"v":198016.72,"d":"198,016.72"},{"$f":"D103","v":{"v":198016.72,"d":"198,016.72"}},{"$f":"D103","v":{"v":198016.72,"d":"198,016.72"}}]
["      горюче-смазочные материалы",null,null,{"$f":"164977.25+546.9","v":{"v":165524.15,"d":"165,524.15"}},{"$f":"D104","v":{"v":165524.15,"d":"165,524.15"}},{"$f":"D104","v":{"v":165524.15,"d":"165,524.15"}}]
["      строительные материалы",null,null,{"v":23287,"d":"23,287.00"},{"$f":"D105","v":{"v":23287,"d":"23,287.00"}},{"$f":"D105","v":{"v":23287,"d":"23,287.00"}}]
["      мягкий инвентарь",null,null,{"$f":"361949.59+255000+15.95","v":{"v":616965.54,"d":"616,965.54"}},{"$f":"D106","v":{"v":616965.54,"d":"616,965.54"}},{"$f":"D106","v":{"v":616965.54,"d":"616,965.54"}}]
["      прочие материальные запасы",null,null,{"$f":"992042.57+18553-1794.95+1466979.32-4671+10000+785287.3+135673.41","v":{"v":3402069.6500000004,"d":"3,402,069.65"}},{"$f":"D107","v":{"v":3402069.6500000004,"d":"3,402,069.65"}},{"$f":"D107","v":{"v":3402069.6500000004,"d":"3,402,069.65"}}]
[" закупку товаров, работ, услуг в целях создания, развития, эксплуатации и вывода из эксплуатации государственных информационных систем",2650,246,{"v":0,"d":"0.00"},{"v":0,"d":"0.00"},{"v":0,"d":"0.00"}]
[" закупку энергетических ресурсов",2660,247,{"$f":"справочно!D102","v":{"v":11597857.790000001,"d":"11,597,857.79"}},{"$f":"D109","v":{"v":11597857.790000001,"d":"11,597,857.79"}},{"$f":"D109","v":{"v":11597857.790000001,"d":"11,597,857.79"}}]
["капитальные вложения в объекты государственной (муниципальной) собственности, всего",2700,400,{"v":0,"d":"0.00"},{"v":0,"d":"0.00"},{"v":0,"d":"0.00"}]
["в том числе:",2710,406,{"v":0,"d":"0.00"},{"v":0,"d":"0.00"},{"v":0,"d":"0.00"}]
["приобретение объектов недвижимого имущества государственными (муниципальными) учреждениями"]
["строительство (реконструкция) объектов недвижимого имущества государственными (муниципальными) учреждениями",2720,407,{"v":0,"d":"0.00"},{"v":0,"d":"0.00"},{"v":0,"d":"0.00"}]
["специальные расходы",2800,880,{"v":0,"d":"0.00"},{"v":0,"d":"0.00"},{"v":0,"d":"0.00"}]
["Выплаты, уменьшающие доход, всего <7>",3000,100,{"$f":"D116","v":{"v":-68531,"d":"-68,531.00"}},{"$f":"D115","v":{"v":-68531,"d":"-68,531.00"}},{"$f":"D115","v":{"v":-68531,"d":"-68,531.00"}},"x"]
["в том числе:",3010,null,{"$f":"справочно!D104","v":{"v":-68531,"d":"-68,531.00"}},{"$f":"D116","v":{"v":-68531,"d":"-68,531.00"}},{"$f":"D116","v":{"v":-68531,"d":"-68,531.00"}},"x"]
["налог на прибыль"]
["налог на добавленную стоимость",3020,null,{"v":0,"d":"0.00"},{"v":0,"d":"0.00"},{"v":0,"d":"0.00"},"x"]
["прочие налоги, уменьшающие доход",3030,null,{"v":0,"d":"0.00"},{"v":0,"d":"0.00"},{"v":0,"d":"0.00"},"x"]
["Прочие выплаты, всего <8>",4000,"x",{"$f":"'Раздел 1'!D121","v":{"v":380870.84,"d":"380,870.84"}},{"$f":"E121","v":{"v":380870.84,"d":"380,870.84"}},{"$f":"F121","v":{"v":380870.84,"d":"380,870.84"}},"x"]
["из них:",4010,610,{"$f":"справочно!D110","v":{"v":380870.84,"d":"380,870.84"}},{"$f":"D121","v":{"v":380870.84,"d":"380,870.84"}},{"$f":"D121","v":{"v":380870.84,"d":"380,870.84"}},"x"]
["Обеспечение исполнения договора"]
[]
["--------------------------------"]
["    <3> В графе 3 отражаются:\n    по  строкам  1100  -  1900  - коды аналитической группы подвида доходов бюджетов классификации доходов бюджетов;\n    по  строкам  1980  -  1990  - коды аналитической группы вида источников финансирования  дефицитов  бюджетов классификации источников финансирования дефицитов бюджетов;\n    по  строкам  2000  -  2800 - коды видов расходов бюджетов классификации расходов бюджетов;\n    по  строкам  3000  -  3030  - коды аналитической группы подвида доходов бюджетов  классификации  доходов  бюджетов,  по  которым планируется уплата налогов,  уменьшающих  доход  (в  том  числе  налог  на  прибыль,  налог на добавленную  стоимость, единый налог на вмененный доход для отдельных видов деятельности);\n    по  строкам  4000  -  4040  - коды аналитической группы вида источников финансирования  дефицитов  бюджетов классификации источников финансирования дефицитов бюджетов."]
["<4>          По  строкам  0001  и  0002  указываются планируемые суммы остатков средств  на  начало и на конец планируемого года, если указанные показатели по   решению  органа,  осуществляющего  функции  и  полномочия  учредителя, планируются   на   этапе  формирования   проекта  Плана  либо  указываются фактические  остатки  средств  при  внесении  изменений в утвержденный План\nпосле завершения отчетного финансового года.\n"]
["<5> Показатели  прочих  поступлений  включают  в  себя  в  том  числе показатели   увеличения  денежных  средств  за  счет  возврата  дебиторской задолженности прошлых лет, включая возврат предоставленных займов (микрозаймов),  а также за счет возврата средств, размещенных на банковских депозитах.   При   формировании  Плана  (проекта  Плана)  обособленному(ым) подразделению(ям)   показатель   прочих   поступлений  включает  показатель поступлений  в  рамках  расчетов  между головным учреждением и обособленным подразделением.\n"]
["<6> Показатели выплат по расходам на закупки товаров, работ, услуг, отраженные в строке 2600 раздела 1 \"Поступления и выплаты\" Плана, подлежат детализации в разделе 2 \"Сведения по выплатам на закупку товаров, работ, услуг\" Плана."]
["<7> Показатель отражается со знаком \"минус\"."]
["<8> Показатели  прочих  выплат  включают в себя в том числе показатели уменьшения   денежных   средств   за   счет   возврата   средств  субсидий, предоставленных  до начала текущего финансового года, предоставления займов\n(микрозаймов),  размещения  автономными  учреждениями  денежных  средств на банковских    депозитах.    При    формировании   Плана   (проекта   Плана) обособленному(ым)   подразделению(ям)  показатель  прочих  выплат  включает\nпоказатель  поступлений  в  рамках  расчетов  между  головным учреждением и обособленным подразделением\n"]

{"sheet":"справочно","index":2,"n_rows":113,"n_cols":9,"rows_kept":113,"merged":[[0,0,0,8],[1,0,1,8],[3,0,5,0],[3,1,5,1],[3,2,5,2],[3,3,3,8],[4,3,5,3],[4,4,5,4],[4,5,5,5],[4,6,5,6],[4,7,4,8],[87,1,97,1]]}
["Справочно к разделу 1. Поступления и выплаты"]
["на 2025 текущий финансовый год"]
[]
["Наименование показателя","Код строки","Код по бюджетной классификации Российской Федерации ","Сумма, руб. ( с точностью до двух знаков после запятой. 0,00)"]
[{"$nulls":3},"Всего","Субсидии на финансовое обеспечение выполнения государственного (муниципального) задания ","Субсидии, предоставляемые в соответствии с абзацем вторым пункта 1 статьи 78.1 БК РФ","Субсидии на осуществление капитальных вложений","Поступления от оказания услуг (выполнения работ) на платной основе и от иной приносящей доход деятельности"]
[{"$nulls":7},"Всего","в том числе гранты"]
["1","2","3","4","5","6","7","8","9"]
["Остаток средств на начало текущего финансового года",null,"х",{"$f":"E8+F8+H8","v":{"v":1301831.55,"d":"1,301,831.55"}},{"$f":"SUM(E9:E10)","v":{"v":785287.3,"d":"785,287.30"}},{"$f":"SUM(F9:F10)","v":{"v":380870.84,"d":"380,870.84"}},{"$f":"SUM(G10)","v":{"v":0,"d":"0.00"}},{"$f":"SUM(H10)","v":{"v":135673.41,"d":"135,673.41"}},{"v":0,"d":"0.00"}]
["в том числе:",null,null,{"$f":"E9+F9","v":{"v":1166158.1400000001,"d":"1,166,158.14"}},{"v":785287.3,"d":"785,287.30"},{"v":380870.84,"d":"380,870.84"}]
["внебюджетные источники",null,null,{"$f":"H10","v":{"v":135673.41,"d":"135,673.41"}},{"v":0,"d":"0.00"},null,null,{"v":135673.41,"d":"135,673.41"},{"v":0,"d":"0.00"}]
["Доходы, всего:",1000,"х",{"$f":"SUM(E11:H11)","v":{"v":128950901,"d":"128,950,901.00"}},{"$f":"SUM(E12+E14+E19+E22+E39+E42+E45)","v":{"v":91031400,"d":"91,031,400.00"}},{"$f":"SUM(F24)","v":{"v":22672267,"d":"22,672,267.00"}},null,{"$f":"SUM(H12+H14+H19+H22+H43+H47)","v":{"v":15247234.000000002,"d":"15,247,234.00"}},{"$f":"SUM(I12+I14+I19+I22+I39+I42+I45)","v":{"v":11230000,"d":"11,230,000.00"}}]
["в том числе:\nдоходы от собственности, всего",1100,"120",{"$f":"SUM(E12:H12)","v":{"v":746072.22,"d":"746,072.22"}},{"$f":"SUM(E13)","v":{"v":0,"d":"0.00"}},{"$f":"SUM(F13)","v":{"v":0,"d":"0.00"}},null,{"$f":"SUM(H13)","v":{"v":746072.22,"d":"746,072.22"}}]
["в т.ч. внебюджетные источники",1101,"121",{"$f":"SUM(E13:H13)","v":{"v":746072.22,"d":"746,072.22"}},{"$nulls":3},{"$f":"730246.95+15825.27","v":{"v":746072.22,"d":"746,072.22"}}]
["доходы от оказания услуг, работ, компенсации затрат учреждений, всего",1200,"130",{"$f":"SUM(E14:H14)","v":{"v":93883581.56,"d":"93,883,581.56"}},{"$f":"SUM(E15)","v":{"v":91031400,"d":"91,031,400.00"}},{"$f":"SUM(F15:F16)","v":{"v":0,"d":"0.00"}},null,{"$f":"SUM(H16:H18)","v":{"v":2852181.56,"d":"2,852,181.56"}}]
["в том числе:\nсубсидии на финансовое обеспечение выполнения государственного (муниципального) задания за счет средств бюджета публично-правового образования, создавшего учреждение",1201,"131",{"$f":"SUM(E15:H15)","v":{"v":91031400,"d":"91,031,400.00"}},{"$f":"83196400+7835000","v":{"v":91031400,"d":"91,031,400.00"}}]
["внебюджетные источники",1210,"131",{"v":2033638.44,"d":"2,033,638.44"},{"$nulls":3},{"$f":"1199143.15+834495.29","v":{"v":2033638.44,"d":"2,033,638.44"}}]
["внебюджетные источники",1211,"134",{"v":0,"d":"0.00"},{"$nulls":3},{"v":0,"d":"0.00"}]
["внебюджетные источники",1212,"135",{"v":818543.12,"d":"818,543.12"},{"$nulls":3},{"v":818543.12,"d":"818,543.12"}]
["доходы от штрафов, пеней, иных сумм принудительного изъятия, всего",1300,"140",{"v":0,"d":"0.00"},{"$nulls":3},{"$f":"SUM(H21)","v":{"v":0,"d":"0.00"}}]
["в том числе:",null,null,{"v":0,"d":"0.00"}]
["внебюджетные источники",1301,"141",{"v":0,"d":"0.00"},{"$nulls":3},{"v":0,"d":"0.00"}]
["безвозмездные денежные поступления, всего",1400,"150",{"$f":"SUM(D24)+D35+D36+D37+D38","v":{"v":33985967,"d":"33,985,967.00"}},{"$f":"SUM(E24)","v":{"v":0,"d":"0.00"}},{"$f":"SUM(F24)","v":{"v":22672267,"d":"22,672,267.00"}},{"$f":"SUM(G24)","v":{"v":0,"d":"0.00"}},{"$f":"SUM(H35:H38)","v":{"v":11313700,"d":"11,313,700.00"}},{"$f":"I36+I37","v":{"v":11230000,"d":"11,230,000.00"}}]
["в том числе:",null,null,{"v":0,"d":"0.00"}]
["субсидии на иные цели",null,"152",{"$f":"SUM(D25:D34)","v":{"v":22672267,"d":"22,672,267.00"}},null,{"$f":"SUM(F25:F35)","v":{"v":22672267,"d":"22,672,267.00"}},null,{"v":0,"d":"0.00"},{"v":0,"d":"0.00"}]
["Обеспечены выплаты ежемесячного денежного вознаграждения советникам директоров по воспитанию и взаимодействию с детскими общественными объединениями (ФБ)",null,"152",{"$f":"F25","v":{"v":171950,"d":"171,950.00"}},null,{"v":171950,"d":"171,950.00"}]
["Обеспечены выплаты ежемесячного денежного вознаграждения советникам директоров по воспитанию и взаимодействию с детскими общественными объединениями (ОБ)",null,"152",{"$f":"F26","v":{"v":7730,"d":"7,730.00"}},null,{"v":7730,"d":"7,730.00"}]
["Обеспечены выплаты денежного вознаграждения за классное руководство (кураторство), предоставляемые педагогическим работникам образовательных организаций ежемесячно (ФБ)",null,"152",{"$f":"F27","v":{"v":6533800,"d":"6,533,800.00"}},null,{"v":6533800,"d":"6,533,800.00"}]
["Обеспечены выплаты денежного вознаграждения за классное руководство (кураторство), предоставляемые педагогическим работникам образовательных организаций ежемесячно (ОБ)",null,"152",{"$f":"F28","v":{"v":293900,"d":"293,900.00"}},null,{"v":293900,"d":"293,900.00"}]
["Обеспечено предоставление стипендий обучающимся по очной форме обучения в профессиональных образовательных организациях",null,"152",{"v":5637800,"d":"5,637,800.00"},null,{"v":5637800,"d":"5,637,800.00"}]
["Обеспечено финансирование мероприятий Всероссийского  чемпионатного движения по профессиональному мастерству в Мурманской области ",null,"152",{"$f":"F30","v":{"v":1293491,"d":"1,293,491.00"}},null,{"v":1293491,"d":"1,293,491.00"}]
["Обеспечено финасирование предоставления бесплатного питания отдельным категориям обучающихся в учреждениях среднего профессионального образования",null,"152",{"$f":"SUM(E31:H31)","v":{"v":2012400,"d":"2,012,400.00"}},null,{"v":2012400,"d":"2,012,400.00"}]
["Обеспечено финансирование расходов, связанных с оплатой проезда и провоза багажа к месту использования отпуска и обратно, а также компенсацией расходов на оплату стоимости проезда и провоза багажа при переезде лиц (работников), а также членов их семей, при заключении (расторжении) трудовых договоров (контрактов) с организациями, финансируемыми из областного бюджета",null,"152",{"v":928900,"d":"928,900.00"},null,{"v":928900,"d":"928,900.00"}]
["Обеспечено содержание детей-сирот, детей, оставшихся без попечения родителей, лиц из их числа в государственных автономных профессиональных образовательных учреждениях Мурманской области",null,"152",{"v":5588000,"d":"5,588,000.00"},null,{"v":5588000,"d":"5,588,000.00"}]
["Обеспечено финансирование затрат на модернизацию, эксплуатацию  и сопровождение  автоматизированных информационных систем для предоставления государственных и муниципальных услуг в сфере образования",null,"152",{"$f":"F34","v":{"v":204296,"d":"204,296.00"}},null,{"v":204296,"d":"204,296.00"}]
["Стипендия Правительства РФ",null,"152",{"$f":"SUM(E35:H35)","v":{"v":0,"d":"0.00"}},{"$nulls":3},{"v":0,"d":"0.00"},{"$f":"H35","v":{"v":0,"d":"0.00"}}]
["Грант в форме субсидии на развитие студенческих спортивных клубов",null,"152",{"$f":"H36","v":{"v":730000,"d":"730,000.00"}},{"$nulls":3},{"v":730000,"d":"730,000.00"},{"v":730000,"d":"730,000.00"}]
["Безвозмездное (целевое) финансирование на монтаж АПС в зд. мастерских, обновление общих зон (приобретение мебели, брендирование)",null,"155",{"$f":"H37","v":{"v":10500000,"d":"10,500,000.00"}},{"$nulls":3},{"v":10500000,"d":"10,500,000.00"},{"v":10500000,"d":"10,500,000.00"}]
["Предоставление безвозмездной финансовой помощи",null,"155",{"$f":"H38","v":{"v":83700,"d":"83,700.00"}},{"$nulls":3},{"$f":"21600+62100","v":{"v":83700,"d":"83,700.00"}}]
["прочие доходы, всего",1500,null,{"v":0,"d":"0.00"}]
["в том числе:",null,"180",{"v":0,"d":"0.00"}]
[{"$nulls":3},{"v":0,"d":"0.00"}]
["доходы от операций с активами, всего",1900,null,{"v":0,"d":"0.00"}]
["в том числе:",null,"440",{"v":335280.22,"d":"335,280.22"},{"$nulls":3},{"$f":"368880.22-33600","v":{"v":335280.22,"d":"335,280.22"}}]
[{"$nulls":3},{"v":0,"d":"0.00"}]
["прочие поступления, всего ",1980,null,{"v":0,"d":"0.00"}]
["в том числе:",null,null,{"v":0,"d":"0.00"}]
["обеспечение контрактов",null,"510",{"v":0,"d":"0.00"},{"$nulls":3},{"v":0,"d":"0.00"}]
["Расходы, всего",2000,"х",{"$f":"SUM(E48:H48)","v":{"v":129803330.71,"d":"129,803,330.71"}},{"$f":"SUM(E49+E61+E68+E88+E102)","v":{"v":91816687.3,"d":"91,816,687.30"}},{"$f":"SUM(F49+F61+F68+F85)","v":{"v":22672267,"d":"22,672,267.00"}},null,{"$f":"SUM(H49+H61+H68+H87+H88+H102+H107)","v":{"v":15314376.41,"d":"15,314,376.41"}},{"$f":"SUM(I49+I53+I61+I68+I88)","v":{"v":10032000,"d":"10,032,000.00"}}]
["в том числе:\nна выплаты персоналу, всего",2100,"х",{"$f":"SUM(D50:D53)","v":{"v":79389305.81,"d":"79,389,305.81"}},{"$f":"SUM(E50:E53)","v":{"v":69336468.62,"d":"69,336,468.62"}},{"$f":"SUM(F50:F53)","v":{"v":7936280,"d":"7,936,280.00"}},null,{"$f":"SUM(H50:H53)","v":{"v":2116557.19,"d":"2,116,557.19"}}]
["в том числе:\nоплата труда",2110,"111",{"$f":"SUM(E50:H50)","v":{"v":60131036.57,"d":"60,131,036.57"}},{"$f":"53029246.25+95000","v":{"v":53124246.25,"d":"53,124,246.25"}},{"$f":"5016000+228000+132000+6000","v":{"v":5382000,"d":"5,382,000.00"}},null,{"$f":"1324790.32+300000","v":{"v":1624790.32,"d":"1,624,790.32"}}]
["прочие выплаты персоналу, в том числе компенсационного характера",2120,"112",{"$f":"SUM(E51:H51)","v":{"v":1027178.27,"d":"1,027,178.27"}},{"v":130000,"d":"130,000.00"},{"v":896128.27,"d":"896,128.27"},null,{"v":1050,"d":"1,050.00"}]
["иные выплаты, за исключением фонда оплаты труда учреждения, для выполнения отдельных полномочий",2130,"113",{"v":67390,"d":"67,390.00"},{"v":67390,"d":"67,390.00"},null,null,{"v":0,"d":"0.00"}]
["взносы по обязательному социальному страхованию на выплаты по оплате труда работников и иные выплаты работникам учреждений, всего",2140,"х",{"v":18163700.97,"d":"18,163,700.97"},{"$f":"SUM(E54:E60)","v":{"v":16014832.37,"d":"16,014,832.37"}},{"$f":"SUM(F54:F60)","v":{"v":1658151.73,"d":"1,658,151.73"}},null,{"$f":"H54","v":{"v":490716.87,"d":"490,716.87"}}]
["в том числе:\nна выплаты по оплате труда",2141,"119",{"v":18130929.24,"d":"18,130,929.24"},{"v":16014832.37,"d":"16,014,832.37"},{"$f":"1517800+65900+39950+1730","v":{"v":1625380,"d":"1,625,380.00"}},null,{"v":490716.87,"d":"490,716.87"}]
["на иные выплаты работникам",2142,"119",{"v":32771.73,"d":"32,771.73"}," ",{"v":32771.73,"d":"32,771.73"}]
["денежное довольствие военнослужащих и сотрудников, имеющих специальные звания",2150,null,{"v":0,"d":"0.00"}]
["расходы на выплаты военнослужащим и сотрудникам, имеющим специальные звания, зависящие от размера денежного довольствия",2160,null,{"v":0,"d":"0.00"}]
["иные выплаты военнослужащим и сотрудникам, имеющим специальные звания",2170,null,{"v":0,"d":"0.00"}]
["страховые взносы на обязательное социальное страхование в части выплат персоналу, подлежащих обложению страховыми взносами",2180,null,{"v":0,"d":"0.00"}]
["в том числе:\nна оплату труда стажеров",2181,null,{"v":0,"d":"0.00"}]
["социальные и иные выплаты населению, всего",2200,"х",{"$f":"SUM(E61:H61)","v":{"v":13238200,"d":"13,238,200.00"}},{"$f":"SUM(E62:E67)","v":{"v":0,"d":"0.00"}},{"$f":"F62+F65+F66","v":{"v":13238200,"d":"13,238,200.00"}},null,{"$f":"SUM(H62:H67)","v":{"v":0,"d":"0.00"}},{"$f":"SUM(I62:I67)","v":{"v":0,"d":"0.00"}}]
["в том числе:\nсоциальные выплаты гражданам, кроме публичных нормативных социальных выплат",2210,"320",{"$f":"D63+D64","v":{"v":7600400,"d":"7,600,400.00"}},null,{"$f":"F63+F64","v":{"v":7600400,"d":"7,600,400.00"}},null,{"$f":"H63+H64","v":{"v":0,"d":"0.00"}}]
["из них:\nпособия, компенсации и иные социальные выплаты гражданам, кроме публичных нормативных обязательств",2211,"321",{"v":3090585,"d":"3,090,585.00"},{"v":0,"d":"0.00"},{"$f":"240585+2850000","v":{"v":3090585,"d":"3,090,585.00"}},null,{"v":0,"d":"0.00"}]
["приобретение товаров, работ,услуг в пользу граждан в целях их социального обеспечения",2212,"323",{"v":4509815,"d":"4,509,815.00"},{"v":0,"d":"0.00"},{"$f":"1771815+2738000","v":{"v":4509815,"d":"4,509,815.00"}},null,{"v":0,"d":"0.00"}]
["выплата стипендий, осуществление иных расходов на социальную поддержку обучающихся за счет средств стипендиального фонда",2220,"340",{"v":5637800,"d":"5,637,800.00"},{"v":0,"d":"0.00"},{"v":5637800,"d":"5,637,800.00"},null,{"v":0,"d":"0.00"},{"$f":"H65","v":{"v":0,"d":"0.00"}}]
["на премирование физических лиц за достижения в области культуры, искусства, образования, науки и техники, а также на предоставление грантов с целью поддержки проектов в области науки, культуры и искусства",2230,"350",{"v":0,"d":"0.00"},{"v":0,"d":"0.00"},{"v":0,"d":"0.00"},null,{"v":0,"d":"0.00"}]
["иные выплаты населению",2240,null,{"v":0,"d":"0.00"}]
["уплата налогов, сборов и иных платежей, всего",2300,"х",{"v":2665545.45,"d":"2,665,545.45"},{"$f":"SUM(E70:E72)","v":{"v":2547512,"d":"2,547,512.00"}},{"$f":"SUM(F70:F72)","v":{"v":0,"d":"0.00"}},null,{"$f":"SUM(H70:H72)","v":{"v":118033.45,"d":"118,033.45"}},{"$f":"SUM(I70:I72)","v":{"v":0,"d":"0.00"}}]
["в том числе:",null,null,{"v":0,"d":"0.00"}]
["налог на имущество организаций и земельный налог","х","851",{"v":2654199,"d":"2,654,199.00"},{"$f":"2312597+229668","v":{"v":2542265,"d":"2,542,265.00"}},{"v":0,"d":"0.00"},null,{"$f":"104831+7103","v":{"v":111934,"d":"111,934.00"}}]
["иные налоги (включаемые в состав расходов) в бюджеты бюджетной системы Российской Федерации, а также государственная пошлина","х","852",{"v":5410,"d":"5,410.00"},{"v":5247,"d":"5,247.00"},{"v":0,"d":"0.00"},null,{"v":163,"d":"163.00"}]
["уплата штрафов (в том числе административных), пеней, иных платежей","х","853",{"v":5936.45,"d":"5,936.45"},{"v":0,"d":"0.00"},{"v":0,"d":"0.00"},null,{"v":5936.45,"d":"5,936.45"}]
["безвозмездные перечисления организациям и физическим лицам, всего"]
["в том числе:"]
["гранты, предоставляемые бюджетным учреждениям",2410]
["гранты, предоставляемые автономным учреждениям",2420]
["гранты, предоставляемые иным некоммерческим организациям \n(за исключением бюджетных и автономных учреждений)",2430]
["гранты, предоставляемые другим организациям и физическим лицам",2440]
["взносы в международные организации",2450]
["платежи в целях обеспечения реализации соглашений с правительствами иностранных государств и международными организациями",2460]
["прочие выплаты (кроме выплат на закупку товаров, работ, услуг)",2500,"х"]
["в том числе :"]
["исполнение судебных актов Российской Федерации и мировых соглашений по возмещению вреда, причиненного в результате деятельности учреждения",2520]
[]
["расходы на закупку товаров, работ, услуг, всего ",2600,"х",{"$f":"E85+F85+H85","v":{"v":34510279.45,"d":"34,510,279.45"}},{"$f":"E88+E102","v":{"v":19932706.68,"d":"19,932,706.68"}},{"$f":"SUM(F87+F88)","v":{"v":1497787,"d":"1,497,787.00"}},null,{"$f":"H87+H88+H102","v":{"v":13079785.77,"d":"13,079,785.77"}}]
["в том числе:\nзакупку научно-исследовательских и опытно-конструкторских работ",2610]
["закупку товаров, работ, услуг в целях капитального ремонта государственного (муниципального) имущества",2630,"243",{"$f":"SUM(E87:H87)","v":{"v":1198000,"d":"1,198,000.00"}},{"v":0,"d":"0.00"},{"v":0,"d":"0.00"},null,{"$f":"599000+599000","v":{"v":1198000,"d":"1,198,000.00"}},{"$f":"599000+599000","v":{"v":1198000,"d":"1,198,000.00"}}]
["прочую закупку товаров, работ и услуг, всего",2640,"х",{"$f":"SUM(D90:D98)","v":{"v":21714421.66,"d":"21,714,421.66"}},{"$f":"SUM(E89:E98)","v":{"v":8885394.88,"d":"8,885,394.88"}},{"$f":"SUM(F89:F98)","v":{"v":1497787,"d":"1,497,787.00"}},null,{"$f":"SUM(H89:H98)","v":{"v":11331239.78,"d":"11,331,239.78"}},{"$f":"SUM(I90:I98)","v":{"v":10032000,"d":"10,032,000.00"}}]
["в том числе:"]
["услуги связи",null,"244",{"$f":"SUM(E90:H90)","v":{"v":117000,"d":"117,000.00"}},{"v":117000,"d":"117,000.00"},{"v":0,"d":"0.00"},null,{"v":0,"d":"0.00"}]
["транспортные услуги",null,"244",{"$f":"SUM(E91:H91)","v":{"v":6000,"d":"6,000.00"}},{"v":6000,"d":"6,000.00"},{"v":0,"d":"0.00"},null,{"v":0,"d":"0.00"}]
["коммунальные услуги",null,"244",{"v":205800.78999999998,"d":"205,800.79"},{"v":185947.33,"d":"185,947.33"},{"v":0,"d":"0.00"},null,{"$f":"19853.46","v":{"v":19853.46,"d":"19,853.46"}}]
["арендная плата за пользование имуществом",null,"244",{"v":0,"d":"0.00"},{"v":0,"d":"0.00"},{"v":0,"d":"0.00"},null,{"v":0,"d":"0.00"}]
["работы, услуги по содержанию имущества",null,"244",{"$f":"SUM(E94:H94)","v":{"v":1629376.42,"d":"1,629,376.42"}},{"v":905500,"d":"905,500.00"},{"v":0,"d":"0.00"},null,{"v":723876.42,"d":"723,876.42"}]
["прочие работы, услуги",null,"244",{"$f":"SUM(E95:H95)","v":{"v":5869547,"d":"5,869,547.00"}},{"v":4653160,"d":"4,653,160.00"},{"$f":"123491+204296","v":{"v":327787,"d":"327,787.00"}},null,{"$f":"243600+645000","v":{"v":888600,"d":"888,600.00"}},{"v":645000,"d":"645,000.00"}]
["страхование",null,"244",{"v":15647.48,"d":"15,647.48"},{"v":15647.48,"d":"15,647.48"},{"v":0,"d":"0.00"},null,{"v":0,"d":"0.00"}]
["увеличение стоимости основных средств",null,"244",{"$f":"SUM(E97:H97)","v":{"v":10495166.18,"d":"10,495,166.18"}},{"v":1160000,"d":"1,160,000.00"},{"v":0,"d":"0.00"},null,{"$f":"9302000+730000-645000-320-50000-1513.82","v":{"v":9335166.18,"d":"9,335,166.18"}},{"$f":"9302000+730000-645000-320-50000-1513.82","v":{"v":9335166.18,"d":"9,335,166.18"}}]
["увеличение стоимости материальных запасов",null,"244",{"$f":"SUM(E98:H98)","v":{"v":3375883.79,"d":"3,375,883.79"}},{"$f":"1056852.77+785287.3","v":{"v":1842140.07,"d":"1,842,140.07"}},{"$f":"1293491-123491","v":{"v":1170000,"d":"1,170,000.00"}},null,{"$f":"585642.41-7432.51+320+50000+1513.82-350000+83700","v":{"v":363743.72,"d":"363,743.72"}},{"$f":"320+50000+1513.82","v":{"v":51833.82,"d":"51,833.82"}}]
["капитальные вложения в объекты государственной (муниципальной) собственности, всего",2650,"х"]
["в том числе:\nприобретение объектов недвижимого имущества государственными (муниципальными) учреждениями",2651]
["строительство (реконструкция) объектов недвижимого имущества государственными (муниципальными) учреждениями",2652,"243"]
["закупку энергетических ресурсов",2660,"247",{"$f":"E102+F102+H102","v":{"v":11597857.790000001,"d":"11,597,857.79"}},{"v":11047311.8,"d":"11,047,311.80"},null,null,{"v":550545.99,"d":"550,545.99"}]
["Выплаты, уменьшающие доход, всего ",3000,"х",{"$f":"SUM(D104:D106)","v":{"v":-68531,"d":"-68,531.00"}},{"$nulls":3},{"$f":"SUM(H104:H106)","v":{"v":-68531,"d":"-68,531.00"}}]
["в том числе:\nналог на прибыль ",3010,"180",{"$f":"SUM(E104:H104)","v":{"v":-68531,"d":"-68,531.00"}},{"$nulls":3},{"v":-68531,"d":"-68,531.00"}]
["налог на добавленную стоимость",3020]
["прочие налоги, уменьшающие доход ",3030]
["Прочие выплаты, всего ",4000,"х",{"$f":"SUM(D108:D110)","v":{"v":380870.84,"d":"380,870.84"}},{"$nulls":3},{"$f":"SUM(H108:H110)","v":{"v":0,"d":"0.00"}}]
["в том числе:"]
["возврат в бюджет средств субсидии",null,"610"]
["Обеспечение исполнения договора",null,"610",{"$f":"SUM(E110:H110)","v":{"v":380870.84,"d":"380,870.84"}},null,{"v":380870.84,"d":"380,870.84"}]
["Остаток средств на конец текущего финансового года","0002",null,{"$f":"D113","v":{"v":1.862645149230957E-9,"d":"0.00"}},{"$f":"E8+E11-E48","v":{"v":0,"d":"0.00"}},{"$f":"F113","v":{"v":0,"d":"0.00"}},null,{"$f":"SUM(H113)","v":{"v":1.862645149230957E-9,"d":"0.00"}}]
["в том числе:"]
["внебюджетные источники",null,"131",{"$f":"E113+F113+H113","v":{"v":1.862645149230957E-9,"d":"0.00"}},{"$f":"E8+E11-E48","v":{"v":0,"d":"0.00"}},{"$f":"F8+F11-F48-F110","v":{"v":0,"d":"0.00"}},null,{"$f":"H10+H11-H48+H103","v":{"v":1.862645149230957E-9,"d":"0.00"}}]

{"sheet":"Раздел 2","index":3,"n_rows":63,"n_cols":10,"rows_kept":63,"merged":[[0,0,0,9],[2,0,3,0],[2,1,3,1],[2,2,3,2],[2,3,3,3],[2,4,3,4],[2,5,3,5],[2,6,2,9],[6,0,7,0],[6,2,7,2],[6,3,7,3],[6,4,7,4],[6,5,7,5],[6,6,7,6],[6,7,7,7],[6,8,7,8],[6,9,7,9],[10,0,11,0],[10,2,11,2],[10,3,11,3],[10,4,11,4],[10,5,11,5],[10,6,11,6],[10,7,11,7],[10,8,11,8],[10,9,11,9],[19,0,20,0],[19,2,20,2],[19,3,20,3],[19,4,20,4],[19,5,20,5],[19,6,20,6],[19,7,20,7],[19,8,20,8],[19,9,20,9],[21,0,22,0],[21,2,22,2],[21,3,22,3],[21,4,22,4],[21,5,22,5],[21,6,22,6],[21,7,22,7],[21,8,22,8],[21,9,22,9],[27,0,28,0],[27,2,28,2],[27,3,28,3],[27,4,28,4],[27,5,28,5],[27,6,28,6],[27,7,28,7],[27,8,28,8],[27,9,28,9],[36,0,37,0],[36,2,37,2],[36,3,37,3],[36,4,37,4],[36,5,37,5],[36,6,37,6],[36,7,37,7],[36,8,37,8],[36,9,37,9],[40,0,41,0],[40,2,41,2],[40,3,41,3],[40,4,41,4],[40,5,41,5],[40,6,41,6],[40,7,41,7],[40,8,41,8],[40,9,41,9],[48,0,49,0],[48,2,49,2],[48,3,49,3],[48,4,49,4],[48,5,49,5],[48,6,49,6],[48,7,49,7],[48,8,49,8],[48,9,49,9],[51,0,52,0],[51,2,52,2],[51,3,52,3],[51,4,52,4],[51,9,52,9],[55,0,55,9],[56,0,56,9],[57,0,57,9],[58,0,58,9],[59,0,59,9],[60,0,60,9],[60,10,60,12],[61,0,61,9],[62,0,62,9]]}
["Раздел 2. Сведения по выплатам на закупки товаров, работ, услуг<9>"]
[]
["N п/п","Наименование показателя","Коды строк","Год начала закупки","Код по бюджетной классификации Российской Федерации <9.1>","Уникальный код <9.2>","Сумма, руб."]
[{"$nulls":6},"на 2025 г. текущий финансовый год","на 2026 г. (1-й год планового периода)","на 2026 г. (2-й год планового периода)","за пределами планового периода"]
[1,2,3,4,"4.1","4.2",5,6,7,8]
[1,"Выплаты на закупку товаров, работ, услуг, всего <10>",26000,"x",null,null,{"$f":"G10+G19","v":{"v":33236155.45,"d":"33,236,155.45"}},{"$f":"G6","v":{"v":33236155.45,"d":"33,236,155.45"}},{"$f":"G6","v":{"v":33236155.45,"d":"33,236,155.45"}}]
["1.1","в том числе:",26100,"x"]
[null,"по контрактам (договорам), заключенным до начала текущего финансового года без применения норм Федерального закона от 5 апреля 2013 г. N 44-ФЗ \"О контрактной системе в сфере закупок товаров, работ, услуг для обеспечения государственных и муниципальных нужд\" (далее - Федеральный закон N 44-ФЗ) и Федерального закона от 18 июля 2011 г. N 223-ФЗ \"О закупках товаров, работ, услуг отдельными видами юридических лиц\" (далее - Федеральный закон N 223-ФЗ) <11>"]
["1.2","по контрактам (договорам), планируемым к заключению в соответствующем финансовом году без применения норм Федерального закона N 44-ФЗ и Федерального закона N 223-ФЗ <11>",26200,"x"]
["1.3","по контрактам (договорам), заключенным до начала текущего финансового года с учетом требований Федерального закона N 44-ФЗ и Федерального закона N 223-ФЗ <12>",26300,"x",null,null,{"$f":"G15","v":{"v":5654821.41,"d":"5,654,821.41"}},{"$f":"H15","v":{"v":5654821.41,"d":"5,654,821.41"}},{"$f":"I15","v":{"v":5654821.41,"d":"5,654,821.41"}}]
["1.3.1","в том числе:",26310,"x","x"]
[null,"в соответствии с Федеральным законом N 44-ФЗ"]
[null,"из них <9.1>:","26310.1"]
[null,"из них <9.1>:","26310.2"]
["1.3.2","в соответствии с Федеральным законом N 223-ФЗ ",26320,"x","x",null,{"$f":"G16+G17+G18","v":{"v":5654821.41,"d":"5,654,821.41"}},{"$f":"H16+H17+H18","v":{"v":5654821.41,"d":"5,654,821.41"}},{"$f":"I16+I17+I18","v":{"v":5654821.41,"d":"5,654,821.41"}}]
[null,"в т.ч:",26321,null,244,null,{"$f":"167650.79+15154.32+71561.7","v":{"v":254366.81,"d":"254,366.81"}},{"$f":"G16","v":{"v":254366.81,"d":"254,366.81"}},{"v":254366.81,"d":"254,366.81"}]
[null,null,26322,null,247,null,{"$f":"1700000","v":{"v":1700000,"d":"1,700,000.00"}},{"v":1700000,"d":"1,700,000.00"},{"v":1700000,"d":"1,700,000.00"}]
[null,null,26323,null,323,null,{"$f":"311021+1157117.5+1306366.1+611450+314500","v":{"v":3700454.6,"d":"3,700,454.60"}},{"v":3700454.6,"d":"3,700,454.60"},{"v":3700454.6,"d":"3,700,454.60"}]
["1.4","по контрактам (договорам), планируемым к заключению в соответствующем финансовом году с учетом требований Федерального закона N 44-ФЗ и Федерального закона N 223-ФЗ <12>",26400,"x",null,null,{"$f":"G20+G27+G40","v":{"v":27581334.04,"d":"27,581,334.04"}},{"$f":"G19","v":{"v":27581334.04,"d":"27,581,334.04"}},{"$f":"G19","v":{"v":27581334.04,"d":"27,581,334.04"}}]
["1.4.1","в том числе:",26410,"x",null,null,{"$f":"G24","v":{"v":13553054.5,"d":"13,553,054.50"}},{"$f":"G20","v":{"v":13553054.5,"d":"13,553,054.50"}},{"$f":"G20","v":{"v":13553054.5,"d":"13,553,054.50"}}]
[null,"за счет субсидий, предоставляемых на финансовое обеспечение выполнения государственного (муниципального) задания"]
["1.4.1.1.","в том числе:",26411,"x"]
[null,"в соответствии с Федеральным законом N 44-ФЗ"]
["1.4.1.2","в соответствии с Федеральным законом N 223-ФЗ <13>",26412,"x",null,null,{"$f":"G25+G26","v":{"v":13553054.5,"d":"13,553,054.50"}},{"$f":"G24","v":{"v":13553054.5,"d":"13,553,054.50"}},{"$f":"G24","v":{"v":13553054.5,"d":"13,553,054.50"}}]
[null,"в т.ч.:",null,null,244,null,{"v":6118550.32,"d":"6,118,550.32"},{"$f":"G25","v":{"v":6118550.32,"d":"6,118,550.32"}},{"$f":"G25","v":{"v":6118550.32,"d":"6,118,550.32"}}]
[{"$nulls":4},247,null,{"$f":"7934504.18-500000","v":{"v":7434504.18,"d":"7,434,504.18"}},{"$f":"G26","v":{"v":7434504.18,"d":"7,434,504.18"}},{"$f":"G26","v":{"v":7434504.18,"d":"7,434,504.18"}}]
["1.4.2","за счет субсидий, предоставляемых в соответствии с абзацем вторым пункта 1 статьи 78.1 Бюджетного кодекса Российской Федерации",26420,"x",null,null,{"$f":"G31","v":{"v":809360.4,"d":"809,360.40"}},{"$f":"G27","v":{"v":809360.4,"d":"809,360.40"}},{"$f":"G27","v":{"v":809360.4,"d":"809,360.40"}}]
["1.4.2.1","в том числе:",26421,"x"]
[null,"в соответствии с Федеральным законом N 44-ФЗ"]
[null,"из них <9.1>:","26421.1","x"]
["1.4.2.2","в соответствии с Федеральным законом N 223-ФЗ <13>",26422,"x",null,null,{"$f":"G32","v":{"v":809360.4,"d":"809,360.40"}},{"$f":"G31","v":{"v":809360.4,"d":"809,360.40"}},{"$f":"G31","v":{"v":809360.4,"d":"809,360.40"}}]
[null,"в т.ч.:",null,null,323,null,{"v":809360.4,"d":"809,360.40"},{"$f":"G32","v":{"v":809360.4,"d":"809,360.40"}},{"$f":"G32","v":{"v":809360.4,"d":"809,360.40"}}]
["1.4.3","за счет субсидий, предоставляемых на осуществление капитальных вложений <14>",26430,"x"]
[null,"из них <9.1>:","26430.1","x"]
[null,"из них <9.2>:","26421.2","x"]
["1.4.4","за счет средств обязательного медицинского страхования",26440,"x"]
["1.4.4.1","в том числе:",26441,"x"]
[null,"в соответствии с Федеральным законом N 44-ФЗ"]
["1.4.4.2","в соответствии с Федеральным законом N 223-ФЗ <13>",26442,"x"]
["1.4.5","за счет прочих источников финансового обеспечения",26450,"x",null,null,{"$f":"G45+G46+G47","v":{"v":13218919.14,"d":"13,218,919.14"}},{"$f":"G40","v":{"v":13218919.14,"d":"13,218,919.14"}},{"$f":"G40","v":{"v":13218919.14,"d":"13,218,919.14"}}]
["1.4.5.1","в том числе:",26451,"x"]
[null,"в соответствии с Федеральным законом N 44-ФЗ"]
[null,"из них <9.1>:","26451.1","x"]
[null,"из них <9.2>:","26451.2","x"]
["1.4.5.2","в соответствии с Федеральным законом N 223-ФЗ",26452,null,243,null,{"$f":"599000+599000","v":{"v":1198000,"d":"1,198,000.00"}},{"$f":"G45","v":{"v":1198000,"d":"1,198,000.00"}},{"$f":"G45","v":{"v":1198000,"d":"1,198,000.00"}}]
[{"$nulls":3},"x",244,null,{"$f":"1488919.14+9302000+730000","v":{"v":11520919.14,"d":"11,520,919.14"}},{"$f":"G46","v":{"v":11520919.14,"d":"11,520,919.14"}},{"$f":"G46","v":{"v":11520919.14,"d":"11,520,919.14"}}]
[{"$nulls":4},247,null,{"v":500000,"d":"500,000.00"},{"$f":"G47","v":{"v":500000,"d":"500,000.00"}},{"$f":"G47","v":{"v":500000,"d":"500,000.00"}}]
[2,"Итого по контрактам, планируемым к заключению в соответствующем финансовом году в соответствии с Федеральным законом N 44-ФЗ, по соответствующему году закупки",26500,"x"]
[null,"в том числе по году начала закупки:",26510]
[]
[3,"Итого по договорам, планируемым к заключению в соответствующем финансовом году в соответствии с Федеральным законом N 223-ФЗ, по соответствующему году закупки",26600,"x",null,null,{"$f":"G52","v":{"v":0,"d":"0.00"}},{"$f":"H52","v":{"v":0,"d":"0.00"}},{"$f":"I52","v":{"v":0,"d":"0.00"}}]
[null,"в том числе по году начала закупки:",26610]
[]
[]
["--------------------------------"]
["<9> В Разделе 2 \"Сведения по выплатам на закупку товаров, работ, услуг\" Плана детализируются показатели выплат по расходам на закупку товаров, работ, услуг, отраженные по соответствующим строкам Раздела 1 \"Поступления и выплаты\" Плана"]
["<9.1> В случаях, если учреждению предоставляются субсидия на иные цели, субсидия на осуществление капитальных вложений или грант в форме субсидии в соответствии с абзацем первым пункта 4 статьи 78.1 Бюджетного кодекса Российской Федерации в целях достижения результатов федерального проекта, в том числе входящего в состав соответствующего национального проекта (программы), определенного Указом Президента Российской Федерации от 7 мая 2018 г. N 204 \"О национальных целях и стратегических задачах развития Российской Федерации на период до 2024 года\", или регионального проекта, обеспечивающего достижение целей, показателей и результатов федерального проекта (далее - региональный проект), показатели строк 26310, 26421, 26430 и 26451 Раздела 2 \"Сведения по выплатам на закупку товаров, работ, услуг\" детализируются по коду целевой статьи (8 - 17 разряды кода классификации расходов бюджетов, при этом в рамках реализации регионального проекта в 8 - 10 разрядах могут указываться нули)."]
["<9.2> Указывается уникальный код объекта капитального строительства или объекта недвижимого имущества, присвоенный государственной интегрированной информационной системой управления общественными финансами \"Электронный бюджет\", в случае если источником финансового обеспечения расходов на осуществление капитальных вложений являются средства федерального бюджета, в том числе предоставленные в виде межбюджетного трансферта в целях софинансирования расходных обязательств субъекта Российской Федерации (муниципального образования)."]
["<10> Плановые показатели выплат на закупку товаров, работ, услуг по строке 26000 Раздела 2 \"Сведения по выплатам на закупку товаров, работ, услуг\" Плана распределяются на выплаты по контрактам (договорам), заключенным (планируемым к заключению) в соответствии с гражданским законодательством (строки 26100 и 26200), а также по контрактам (договорам), заключаемым в соответствии с требованиями законодательства Российской Федерации и иных нормативных правовых актов о контрактной системе в сфере закупок товаров, работ, услуг для обеспечения государственных и муниципальных нужд с детализацией указанных выплат по контрактам (договорам), заключенным до начала текущего финансового года (строка 26300) и планируемым к заключению в соответствующем финансовом году (строка 26400)."]
["<11> Указывается сумма договоров (контрактов) о закупках товаров, работ, услуг, заключенных без учета требований Федерального закона N 44-ФЗ и Федерального закона N 223-ФЗ, в случаях, предусмотренных указанными федеральными законами."]
["<12> Указывается сумма закупок товаров, работ, услуг, осуществляемых в соответствии с Федеральным законом N 44-ФЗ и Федеральным законом N 223-ФЗ."]
["<13> Государственным (муниципальным) бюджетным учреждением показатель не формируется."]
["<14> Указывается сумма закупок товаров, работ, услуг, осуществляемых в соответствии с Федеральным законом N 44-ФЗ."]

{"sheet":"Раздел 3","index":4,"n_rows":42,"n_cols":6,"rows_kept":42,"merged":[[0,0,0,5]]}
["Раздел 3. Сведения и показатели об использования ресурсов\nучреждения (подразделения) на \"30\" сентября 2025 г.\n"]
[]
["Наименование показателя","Единица измерения","за 2025 г. текущий финансовый год","на 2026 г. 1-й год планового периода","на 2027 г. 2-й год планового периода","за пределами планового периода"]
[1,2,4,5,6,7]
["1. Сведения об уровне оплаты труда работников учреждения (подразделения)","x","x","x","x","x"]
["1.1. Фонд оплаты труда (с учетом ЕЖКВ), всего","тыс. руб.",{"v":52589.11,"d":"52,589.11 "},{"$f":"C6","v":{"v":52589.11,"d":"52,589.11 "}},{"$f":"C6","v":{"v":52589.11,"d":"52,589.11 "}}]
["из них: выплаты стимулирующего характера","тыс. руб.",{"v":6146.47,"d":"6,146.47 "},{"$f":"C7","v":{"v":6146.47,"d":"6,146.47 "}},{"$f":"C7","v":{"v":6146.47,"d":"6,146.47 "}}]
["в том числе:"]
["1.1.1. Фонд оплаты труда руководителей учреждения (подразделения) и их заместителей и главных бухгалтеров","тыс. руб.",{"v":7662.72,"d":"7,662.72 "},{"$f":"C9","v":{"v":7662.72,"d":"7,662.72 "}},{"$f":"C9","v":{"v":7662.72,"d":"7,662.72 "}}]
["из них: выплаты стимулирующего характера","тыс. руб.",{"v":1138.34,"d":"1,138.34 "},{"v":1138.34,"d":"1,138.34 "},{"v":1138.34,"d":"1,138.34 "}]
["1.1.2. Фонд оплаты труда прочих работников учреждения (подразделения)","тыс. руб.",{"$f":"C6-C9-C13","v":{"v":20325.07,"d":"20,325.07 "}},{"v":20325.07,"d":"20,325.07 "},{"v":20325.07,"d":"20,325.07 "}]
["из них: выплаты стимулирующего характера","тыс. руб.",{"$f":"C7-C10-2091.35","v":{"v":2916.78,"d":"2,916.78 "}},{"v":2916.78,"d":"2,916.78 "},{"v":2916.78,"d":"2,916.78 "}]
["1.2. Фонд оплаты труда отдельных категорий работников бюджетной сферы, повышение оплаты труда которых предусмотрено указами Президента РФ, всего","тыс. руб.",{"v":24601.32,"d":"24,601.32 "},{"v":24601.32,"d":"24,601.32 "},{"v":24601.32,"d":"24,601.32 "}]
["1.3. Среднесписочная численность работников учреждения (подразделения)","чел.",55.4,55.4,55.4]
["в том числе:"]
["1.3.1. Среднесписочная численность руководителей учреждения (подразделения) и их заместителей и главных бухгалтеров","чел.",6,6,6]
["1.3.2. Среднесписочная численность прочих работников учреждения (подразделения)","чел.",49.4,{"$f":"C17","v":49.4},{"$f":"C17","v":49.4}]
["1.4. Среднесписочная численность работников учреждения (подразделения), с которыми заключены эффективные контракты","чел.",57,{"$f":"C18","v":57},{"$f":"C18","v":57}]
["в том числе:"]
["1.4.1. Среднесписочная численность руководителей учреждения (подразделения) и их заместителей и главных бухгалтеров, с которыми заключены эффективные контракты","чел.",6,6,6]
["1.4.2. Среднесписочная численность прочих работников учреждения (подразделения), с которыми заключены эффективные контракты","чел.",28,{"$f":"C21","v":28},{"$f":"C21","v":28}]
["1.5. Среднесписочная численность отдельных категорий работников бюджетной сферы, повышение оплаты труда которых предусмотрено указами Президента РФ, всего","чел.",22.7,{"$f":"C22","v":22.7},{"$f":"C22","v":22.7}]
["1.6. Средняя заработная плата, необходимая для реализации указов Президента РФ, предусматривающих повышение оплаты труда отдельных категорий работников бюджетной сферы","руб.",{"v":90554.4,"d":"90,554.40 "},{"$f":"C23","v":{"v":90554.4,"d":"90,554.40 "}},{"$f":"C23","v":{"v":90554.4,"d":"90,554.40 "}}]
["1.7. Средняя заработная плата, сложившаяся/прогнозируемая в отчетном периоде","руб.","x","x","x","x"]
["в том числе по категориям работников, повышение оплаты труда которых предусмотрено указами Президента РФ"]
["1.8. Отношение средней заработной платы руководителей учреждения (подразделения) и их заместителей к средней заработной плате работников учреждения (подразделения)","%",1.7,1.7,1.7]
["1.9. Отношение средней заработной платы, сложившейся/прогнозируемой в отчетном периоде, к средней заработной плате, необходимой для реализации указов Президента РФ","%","x","x","x","x"]
["2. Сведения об использовании имущества учреждения (подразделения)","x","x","x","x","x"]
["2.1. Общая площадь объектов недвижимого имущества, закрепленная за учреждением (подразделением)","м2",{"v":10527.9,"d":"10,527.90"},{"v":10527.9,"d":"10,527.90"},{"v":10527.9,"d":"10,527.90"}]
["в том числе:"]
["2.1.1. Площадь недвижимого имущества в безвозмездном пользовании, всего","м2",{"v":10527.9,"d":"10,527.90"},{"v":10527.9,"d":"10,527.90"},{"v":10527.9,"d":"10,527.90"}]
["2.1.2. Площадь недвижимого имущества в безвозмездном пользовании, не используемая для выполнения государственного задания","м2",{"$f":"137.6+1.2","v":138.79999999999998},{"$f":"C32","v":138.79999999999998},{"$f":"C32","v":138.79999999999998}]
["2.1.3. Площадь недвижимого имущества, переданная в аренду","м2",239.3,{"$f":"C33","v":239.3},{"$f":"C33","v":239.3}]
["2.2. Затраты на содержание имущества учреждения (подразделения)","тыс. руб.",{"v":52657.9,"d":"52,657.90"},{"$f":"C34","v":{"v":52657.9,"d":"52,657.90"}},{"$f":"C34","v":{"v":52657.9,"d":"52,657.90"}}]
["в том числе:"]
["2.2.1. Затраты на содержание имущества учреждения (подразделения), не используемого для выполнения государственного задания","тыс. руб.",{"$f":"560.368+50.399","v":{"v":610.767,"d":"610.8"}},{"$f":"C36","v":{"v":610.767,"d":"610.8"}},{"$f":"C36","v":{"v":610.767,"d":"610.8"}}]
["2.3. Коэффициент износа основных средств (отношение величины износа основных средств на конец отчетного периода к стоимости основных средств учреждения на конец отчетного периода)","ед.",0.42,{"$f":"C37","v":0.42},{"$f":"C37","v":0.42}]
["2.4. Коэффициент обновления основных средств (отношение стоимости основных средств, поступивших за отчетный период, к общей стоимости основных средств учреждения на конец отчетного периода)","ед.",0.35,{"$f":"C38","v":0.35},{"$f":"C38","v":0.35}]
["2.5. Коэффициенты ремонта зданий, характеризующие величину фактических расходов на капитальный ремонт зданий, приходящуюся на один рубль балансовой стоимости основных средств (в том числе за счет бюджетных средств)","ед."]
["в том числе:","ед."]
["за счет бюджетных средств","ед."]
["за счет приносящей доход деятельности","ед."]

{"sheet":"Раздел 4","index":5,"n_rows":28,"n_cols":4,"rows_kept":28,"merged":[[0,0,0,3],[27,0,27,3]]}
["Раздел 4. Перечень мероприятий по повышению эффективности\nдеятельности учреждения (подразделения)\nна \"30\" сентября 2025 г.\n\n"]
[]
["Наименование мероприятия","Сроки проведения","Ожидаемый результат реализации","Затраты, необходимые на проведение мероприятия, тыс. руб."]
["1. Повышение эффективности управления и кадрового потенциала учреждения (подразделения)","в течение года","Отслеживание изменений в законодательстве и применение их в работе;\nКонтроль, учет, безопасность выполнения ПТЭУ;\nБезопасная эксплуатация электроустановок",{"v":20,"d":"20.0"}]
[]
["2. Повышение эффективности управления государственной собственностью"]
[]
["3. Повышение качества предоставления государственных услуг","в течение года","Повышение квалификации педагогических работников",{"v":100,"d":"100.0"}]
[]
["4. Направления оптимизации расходов учреждения (подразделения)","в течение года","Режим экономии энергоресурсов и водоснабжения в учреждении",{"v":0,"d":"0.0"}]
[]
["Итого:","x","x",{"$f":"SUM(D4:D11)","v":{"v":120,"d":"120.0"}}]
[]
["Ответственное должностное лицо ","Главный бухгалтер",null,"О.А. Манаенкова"]
["                                                   "," (должность) ","(подпись) ","(расшифровка подписи)"]
["Исполнитель Главный бухгалтер ",null,"Манаенкова О.А.",88153274763]
["                                    (должность)","(подпись) ","(фамилия, инициалы) (телефон)"]
["\"30\" сентября 2025 г."]
[]
["СОГЛАСОВАНО<14>"," "]
["___________________________________________________________________________"]
["   (наименование должности уполномоченного лица органа, осуществляющего"]
["                     функции и полномочия учредителя)"]
["___________________     __________________________________________"]
["     (подпись)                     (расшифровка подписи)"]
["\"__\" ___________ 20___ г."]
[]
["<14> План государственного областного бюджетного учреждения (План с учетом изменений) представляется на рассмотрение и согласование в орган, осуществляющий функции и полномочия учредителя."]

{"sheet":"Обоснования доходов","index":6,"n_rows":104,"n_cols":82,"rows_kept":104,"merged":[[0,0,0,96],[2,0,2,96],[4,0,4,96],[6,0,6,41],[6,42,6,96],[8,0,8,4],[8,5,8,46],[8,47,8,63],[8,64,8,80],[8,81,8,96],[9,0,9,4],[9,5,9,46],[9,47,9,63],[9,64,9,80],[9,81,9,96],[10,0,10,4],[10,5,10,46],[10,47,10,63],[10,64,10,80],[10,81,10,96],[11,0,11,4],[11,5,11,46],[11,47,11,63],[11,64,11,80],[11,81,11,96],[12,0,12,46],[12,47,12,63],[12,64,12,80],[12,81,12,96],[14,0,14,96],[16,0,16,41],[16,42,16,96],[18,0,18,96],[20,0,20,4],[20,5,20,46],[20,47,20,96],[21,0,21,4],[21,5,21,46],[21,47,21,96],[22,0,22,4],[22,5,22,46],[22,47,22,96],[23,0,23,4],[23,5,23,46],[23,47,23,96],[25,0,25,96],[27,0,27,4],[27,5,27,46],[27,47,27,63],[27,64,27,80],[27,81,27,96],[28,0,28,4],[28,5,28,46],[28,47,28,63],[28,64,28,80],[28,81,28,96],[29,0,29,4],[29,5,29,46],[29,47,29,63],[29,64,29,80],[29,81,29,96],[30,0,30,4],[30,5,30,46],[30,47,30,63],[30,64,30,80],[30,81,30,96],[31,0,31,4],[31,5,31,46],[31,47,31,63],[31,64,31,80],[31,81,31,96],[32,0,32,4],[32,5,32,46],[32,47,32,63],[32,64,32,80],[32,81,32,96],[34,0,34,96],[35,0,35,41],[35,42,35,96],[37,0,37,4],[37,5,37,46],[37,47,37,63],[37,64,37,80],[37,81,37,96],[38,0,38,4],[38,5,38,46],[38,47,38,63],[38,64,38,80],[38,81,38,96],[39,0,39,4],[39,5,39,46],[39,47,39,63],[39,64,39,80],[39,81,39,96],[40,0,40,4],[40,5,40,46],[40,47,40,63],[40,64,40,80],[40,81,40,96],[41,0,41,96],[43,0,43,41],[43,42,43,96],[45,0,45,4],[45,5,45,46],[45,47,45,63],[45,64,45,80],[45,81,45,96],[46,0,46,4],[46,5,46,46],[46,47,46,63],[46,64,46,80],[46,81,46,96],[47,0,47,4],[47,5,47,46],[47,47,47,63],[47,64,47,80],[47,81,47,96],[48,0,48,4],[48,5,48,46],[48,47,48,63],[48,64,48,80],[48,81,48,96],[49,0,49,4],[49,5,49,46],[49,47,49,63],[49,64,49,80],[49,81,49,96],[50,0,50,4],[50,5,50,46],[50,47,50,63],[50,64,50,80],[50,81,50,96],[51,0,51,4],[51,5,51,46],[51,47,51,63],[51,64,51,80],[51,81,51,96],[52,0,52,4],[52,5,52,46],[52,47,52,63],[52,64,52,80],[52,81,52,96],[53,0,53,4],[53,5,53,46],[53,47,53,63],[53,64,53,80],[53,81,53,96],[54,0,54,4],[54,5,54,46],[54,47,54,63],[54,64,54,80],[54,81,54,96],[55,0,55,4],[55,5,55,46],[55,47,55,63],[55,64,55,80],[55,81,55,96],[56,0,56,4],[56,5,56,46],[56,47,56,63],[56,64,56,80],[56,81,56,96],[57,0,57,4],[57,5,57,46],[57,47,57,63],[57,64,57,80],[57,81,57,96],[58,0,58,4],[58,5,58,46],[58,47,58,63],[58,64,58,80],[58,81,58,96],[59,0,59,4],[59,5,59,46],[59,47,59,63],[59,64,59,80],[59,81,59,96],[60,0,60,4],[60,5,60,46],[60,47,60,63],[60,64,60,80],[60,81,60,96],[61,0,61,4],[61,5,61,46],[61,47,61,63],[61,64,61,80],[61,81,61,96],[63,0,63,96],[65,0,65,41],[65,42,65,96],[67,0,67,4],[67,5,67,46],[67,47,67,96],[68,0,68,4],[68,5,68,46],[68,47,68,96],[69,0,69,4],[69,5,69,46],[69,47,69,96],[70,0,70,4],[70,5,70,46],[70,47,70,96],[71,0,71,4],[71,5,71,46],[71,47,71,96],[73,0,73,96],[75,0,75,41],[75,42,75,96],[77,0,77,4],[77,5,77,37],[77,38,77,46],[77,47,77,63],[77,64,77,80],[77,81,77,96],[78,0,78,4],[78,5,78,37],[78,38,78,46],[78,47,78,63],[78,64,78,80],[78,81,78,96],[79,0,79,4],[79,5,79,46],[79,47,79,63],[79,64,79,80],[79,81,79,96],[80,0,80,4],[80,5,80,46],[80,47,80,63],[80,64,80,80],[80,81,80,96],[81,0,81,4],[81,5,81,46],[81,47,81,63],[81,64,81,80],[81,81,81,96],[83,0,83,96],[85,0,85,46],[85,47,85,96],[87,0,87,4],[87,5,87,46],[87,47,87,96],[88,0,88,4],[88,5,88,46],[88,47,88,96],[89,0,89,96],[90,0,90,4],[90,5,90,46],[90,47,90,96],[91,0,91,46],[91,47,91,96],[93,0,93,96],[95,21,95,96],[97,0,97,4],[97,5,97,46],[97,47,97,63],[97,64,97,80],[97,81,97,96],[98,0,98,4],[98,5,98,46],[98,47,98,63],[98,64,98,80],[98,81,98,96],[99,0,99,4],[99,5,99,46],[99,47,99,63],[99,64,99,80],[99,81,99,96],[100,0,100,4],[100,5,100,46],[100,47,100,63],[100,64,100,80],[100,81,100,96],[101,0,101,4],[101,5,101,46],[101,47,101,63],[101,64,101,80],[101,81,101,96],[103,0,103,96]]}
["Обоснования (расчеты) к плану финансово-хозяйственной деятельности государственного  учреждения на 2025 год (на текущий финансовый год) (на 2026 год (на первый год планового периода), на 2027 год (на второй год планового периода)) <15>"]
[]
["1. Обоснования (расчеты) доходов"]
[]
["1.1. Обоснование (расчет) доходов от собственности"]
[]
["Код аналитической группы подвида доходов",{"$nulls":41},"120"]
[]
["№ п/п",{"$nulls":4},"Наименование показателя",{"$nulls":41},"Ставка (тариф) платы за использование имущества за единицу (объект, кв. м), руб.",{"$nulls":16},"Планируемый объем предоставления имущества в пользование (в натуральных показателях)",{"$nulls":16},"Объем планируемых поступлений, руб."]
[1,{"$nulls":4},2,{"$nulls":41},3,{"$nulls":16},4,{"$nulls":16},5]
["1",{"$nulls":4},"Сдача в аренду нежилый помещений (ИП Мостовая Е.А.)",{"$nulls":58},239.3,{"$nulls":16},{"v":730246.95,"d":"730,246.95"}]
["2",{"$nulls":4},"Сдача в аренду нежилый помещений (ИП Чистякова Ю.А.)",{"$nulls":58},1.2,{"$nulls":16},{"v":15825.27,"d":"15,825.27"}]
["Итого: ",{"$nulls":46},"х",{"$nulls":33},{"$f":"SUM(CD11:CS12)","v":{"v":746072.22,"d":"746,072.22"}}]
[]
["1.2. Обоснование (расчет) доходов от оказания услуг (работ), компенсации затрат учреждений "]
[]
["Код аналитической группы подвида доходов",{"$nulls":41},"131"]
[]
["1.2.1. Расчет плановых поступлений в виде субсидии на финансовое обеспечение выполнения  государственного задания"]
[]
["№ п/п",{"$nulls":4},"Наименование показателя",{"$nulls":41},"Объем поступлений, руб."]
[1,{"$nulls":4},2,{"$nulls":41},3]
["1",{"$nulls":4},"Субсидия на финансовое обеспечение выполнения государственного задания",{"$nulls":41},{"v":91031400,"d":"91,031,400.00"}]
[{"$nulls":5},"Итого: ",{"$nulls":41},{"$f":"AV23","v":{"v":91031400,"d":"91,031,400.00"}}]
[]
["1.2.2. Расчет плановых поступлений от оказания дополнительных платных услуг (выполнения работ) "]
[]
["№ п/п",{"$nulls":4},"Наименование услуги (работы)",{"$nulls":41},"Ставка (тариф) платы за единицу услуги  (работы), руб.",{"$nulls":16},"Планируемый объем оказания услуг (выполнения работ), ед.",{"$nulls":16},"Объем планируемых поступлений, руб."]
[1,{"$nulls":4},2,{"$nulls":41},3,{"$nulls":16},4,{"$nulls":16},5]
["1",{"$nulls":4},"Образовательные услуги",{"$nulls":75},{"v":1199143.15,"d":"1,199,143.15"}]
["2",{"$nulls":4},"Предоставление жилья в общежитии",{"$nulls":75},{"v":834495.29,"d":"834,495.29"}]
["3",{"$nulls":4},"Возмещение затрат за коммунальные услуги арендаторами",{"$nulls":75},{"v":818543.12,"d":"818,543.12"}]
[{"$nulls":5},"Итого: ",{"$nulls":41},"х",{"$nulls":33},{"$f":"SUM(CD30:CS32)","v":{"v":2852181.56,"d":"2,852,181.56"}}]
[]
["1.3. Обоснование (расчет) доходов от штрафов, пеней, иных сумм принудительного изъятия"]
["Код аналитической группы подвида доходов",{"$nulls":41},"140"]
[]
["№ \nп/п",{"$nulls":4},"Наименование показателя",{"$nulls":41},"Количество документов-оснований",{"$nulls":16},"Средний объем поступлений по одному документу",{"$nulls":16},"Объем планируемых поступлений, руб."]
[1,{"$nulls":4},2,{"$nulls":41},3,{"$nulls":16},4,{"$nulls":16},5]
["1"]
[{"$nulls":5},"Итого: ",{"$nulls":41},"х",{"$nulls":16},"х",{"$nulls":16},{"$f":"CD40","v":{"v":0,"d":"0.00"}}]
["1.4. Обоснование (расчет) доходов от безвозмездных денежных поступлений"]
[]
["Код аналитической группы подвида доходов",{"$nulls":41},"150"]
[]
["№ п/п",{"$nulls":4},"Наименование вида безвозмездных денежных поступлений",{"$nulls":41},"Количество договоров",{"$nulls":16},"Объем поступлений по одному договору",{"$nulls":16},"Объем планируемых поступлений, руб."]
[1,{"$nulls":4},2,{"$nulls":41},3,{"$nulls":16},4,{"$nulls":16},5]
["1",{"$nulls":4},{"$f":"справочно!A29","v":"Обеспечено предоставление стипендий обучающимся по очной форме обучения в профессиональных образовательных организациях"},{"$nulls":41},1,{"$nulls":16},{"$f":"справочно!F29","v":{"v":5637800,"d":"5,637,800.00"}},{"$nulls":16},{"$f":"BM48","v":{"v":5637800,"d":"5,637,800.00"}}]
["2",{"$nulls":4},{"$f":"справочно!A31","v":"Обеспечено финасирование предоставления бесплатного питания отдельным категориям обучающихся в учреждениях среднего профессионального образования"},{"$nulls":41},1,{"$nulls":16},{"$f":"справочно!F31","v":{"v":2012400,"d":"2,012,400.00"}},{"$nulls":16},{"v":2012400,"d":"2,012,400.00"}]
["3",{"$nulls":4},{"$f":"справочно!A28","v":"Обеспечены выплаты денежного вознаграждения за классное руководство (кураторство), предоставляемые педагогическим работникам образовательных организаций ежемесячно (ОБ)"},{"$nulls":41},1,{"$nulls":16},{"$f":"справочно!F28","v":{"v":293900,"d":"293,900.00"}},{"$nulls":16},{"v":293900,"d":"293,900.00"}]
["4",{"$nulls":4},{"$f":"справочно!A32","v":"Обеспечено финансирование расходов, связанных с оплатой проезда и провоза багажа к месту использования отпуска и обратно, а также компенсацией расходов на оплату стоимости проезда и провоза багажа при переезде лиц (работников), а также членов их семей, при заключении (расторжении) трудовых договоров (контрактов) с организациями, финансируемыми из областного бюджета"},{"$nulls":41},1,{"$nulls":16},{"$f":"справочно!F32","v":{"v":928900,"d":"928,900.00"}},{"$nulls":16},{"$f":"BM51","v":{"v":928900,"d":"928,900.00"}}]
["5",{"$nulls":4},{"$f":"справочно!A33","v":"Обеспечено содержание детей-сирот, детей, оставшихся без попечения родителей, лиц из их числа в государственных автономных профессиональных образовательных учреждениях Мурманской области"},{"$nulls":41},1,{"$nulls":16},{"$f":"справочно!F33","v":{"v":5588000,"d":"5,588,000.00"}},{"$nulls":16},{"v":5588000,"d":"5,588,000.00"}]
["7",{"$nulls":4},"Обеспечено финансирование мероприятий Всероссийского  чемпионатного движения по профессиональному мастерству в Мурманской области ",{"$nulls":41},1,{"$nulls":16},{"$f":"справочно!D30","v":{"v":1293491,"d":"1,293,491.00"}},{"$nulls":16},{"$f":"BM53","v":{"v":1293491,"d":"1,293,491.00"}}]
["8",{"$nulls":4},{"$f":"справочно!A27","v":"Обеспечены выплаты денежного вознаграждения за классное руководство (кураторство), предоставляемые педагогическим работникам образовательных организаций ежемесячно (ФБ)"},{"$nulls":41},1,{"$nulls":16},{"$f":"справочно!F27","v":{"v":6533800,"d":"6,533,800.00"}},{"$nulls":16},{"v":6533800,"d":"6,533,800.00"}]
["9",{"$nulls":4},{"$f":"справочно!A25","v":"Обеспечены выплаты ежемесячного денежного вознаграждения советникам директоров по воспитанию и взаимодействию с детскими общественными объединениями (ФБ)"},{"$nulls":41},1,{"$nulls":16},{"$f":"справочно!F25","v":{"v":171950,"d":"171,950.00"}},{"$nulls":16},{"$f":"BM55","v":{"v":171950,"d":"171,950.00"}}]
["10",{"$nulls":4},{"$f":"справочно!A26","v":"Обеспечены выплаты ежемесячного денежного вознаграждения советникам директоров по воспитанию и взаимодействию с детскими общественными объединениями (ОБ)"},{"$nulls":41},1,{"$nulls":16},{"$f":"справочно!F26","v":{"v":7730,"d":"7,730.00"}},{"$nulls":16},{"v":7730,"d":"7,730.00"}]
["11",{"$nulls":4},"Обеспечено финансирование затрат на модернизацию, эксплуатацию  и сопровождение  автоматизированных информационных систем для предоставления государственных и муниципальных услуг в сфере образования",{"$nulls":41},1,{"$nulls":16},{"v":204296,"d":"204,296.00"},{"$nulls":16},{"$f":"BM57","v":{"v":204296,"d":"204,296.00"}}]
["12",{"$nulls":4},"Стипендия Правительства РФ",{"$nulls":41},1,{"$nulls":16},{"$f":"справочно!H35","v":{"v":0,"d":"0.00"}},{"$nulls":16},{"v":0,"d":"0.00"}]
["13",{"$nulls":4},"Грант в форме субсидии на развитие студенческих спортивных клубов",{"$nulls":41},1,{"$nulls":16},{"$f":"справочно!D36","v":{"v":730000,"d":"730,000.00"}},{"$nulls":16},{"$f":"BM59","v":{"v":730000,"d":"730,000.00"}}]
["14",{"$nulls":4},"Безвозмездное (целевое) финансирование на монтаж АПС в зд. мастерских, обновление общих зон (приобретение мебели, брендирование)",{"$nulls":41},1,{"$nulls":16},{"$f":"справочно!D37","v":{"v":10500000,"d":"10,500,000.00"}},{"$nulls":16},{"$f":"BM60","v":{"v":10500000,"d":"10,500,000.00"}}]
["15",{"$nulls":4},"Предоставление безвозмездной финансовой помощи",{"$nulls":41},1,{"$nulls":16},{"$f":"справочно!D38","v":{"v":83700,"d":"83,700.00"}},{"$nulls":16},{"$f":"BM61","v":{"v":83700,"d":"83,700.00"}}]
[{"$nulls":5},"Итого: ",{"$nulls":41},"х",{"$nulls":16},"х",{"$nulls":16},{"$f":"SUM(CD48:CD61)","v":{"v":33985967,"d":"33,985,967.00"}}]
[]
["1.5. Обоснование (расчет) поступлений от субсидии на иные цели, субсидии на осуществление капитальных вложений"]
[]
["Код аналитической группы подвида доходов"]
[]
["№ п/п",{"$nulls":4},"Наименование вида дохода",{"$nulls":41},"Объем планируемых поступлений, руб."]
[1,{"$nulls":4},2,{"$nulls":41},3]
[]
[]
[{"$nulls":5},"Итого: "]
[]
["1.6. Обоснование (расчет) доходов от операций с активами"]
[]
["Код аналитической группы подвида доходов",{"$nulls":41},"440"]
[]
["№ п/п",{"$nulls":4},"Наименование показателя",{"$nulls":32},"Единица измерения",{"$nulls":8},"Планируемый объем реализации имущества,ед.",{"$nulls":16},"Цена за единицу, руб.",{"$nulls":16},"Объем планируемых поступлений, руб."]
[1,{"$nulls":4},2,{"$nulls":32},3,{"$nulls":8},4,{"$nulls":16},5,{"$nulls":16},6]
["1",{"$nulls":4},"Организация платного питания",{"$nulls":75},{"v":335280.22,"d":"335,280.22"}]
["2"]
[{"$nulls":5},"Итого: ",{"$nulls":41},"х",{"$nulls":16},"х",{"$nulls":16},{"$f":"SUM(CD80:CS81)","v":{"v":335280.22,"d":"335,280.22"}}]
[]
["1.7. Обоснование (расчет) прочих поступлений"]
[]
["Код аналитической группы вида источников финансирования дефицитов"]
[]
["№ \nп/п",{"$nulls":4},"Наименование показателя",{"$nulls":41},"Объем планируемых поступлений, руб."]
[1,{"$nulls":4},2,{"$nulls":41},3]
["Источник финансового обеспечения: ____________________________________________________"]
[]
["Итого: "]
[]
["1.8. Обоснование (расчет) налогов, уменьшающих доход"]
[]
["Код видов доходов",{"$nulls":20},"180"]
[]
["№ \nп/п",{"$nulls":4},"Наименование показателя",{"$nulls":41},"Налоговая база, руб.",{"$nulls":16},"Ставка налога, \n%",{"$nulls":16},"Сумма исчисленного \nналога, подлежащего \nуплате, руб. \n(гр. 3 x гр. 4 / 100)"]
[1,{"$nulls":4},2,{"$nulls":41},3,{"$nulls":16},4,{"$nulls":16},5]
["1",{"$nulls":4},"Налог на прибыль",{"$nulls":75},{"v":68531,"d":"68,531.00"}]
[]
[{"$nulls":5},"Итого: ",{"$nulls":75},{"$f":"CD100","v":{"v":68531,"d":"68,531.00"}}]
[]
["<15> Обоснования (расчеты) к плану финансово-хозяйственной деятельности государственного учреждения формируются отдельно по годам."]

{"sheet":"Обоснования расходов","index":7,"n_rows":440,"n_cols":90,"rows_kept":440,"merged":[[0,0,0,103],[2,22,2,103],[4,0,4,5],[4,6,4,28],[4,29,4,53],[4,54,4,69],[4,70,4,85],[4,86,4,103],[5,0,5,5],[5,6,5,28],[5,29,5,53],[5,54,5,69],[5,70,5,85],[5,86,5,103],[6,0,6,103],[7,0,7,5],[7,6,7,28],[7,29,7,53],[7,54,7,69],[7,70,7,85],[7,86,7,103],[8,0,8,5],[8,6,8,28],[8,29,8,53],[8,54,8,69],[8,70,8,85],[8,86,8,103],[9,0,9,5],[9,6,9,28],[9,29,9,53],[9,54,9,69],[9,70,9,85],[9,86,9,103],[10,0,10,5],[10,6,10,28],[10,29,10,53],[10,54,10,69],[10,70,10,85],[10,86,10,103],[11,0,11,28],[11,29,11,53],[11,54,11,69],[11,70,11,85],[11,86,11,103],[12,0,12,103],[13,0,13,5],[13,6,13,28],[13,29,13,53],[13,54,13,69],[13,70,13,85],[13,86,13,103],[14,0,14,28],[14,29,14,53],[14,54,14,69],[14,70,14,85],[14,86,14,103],[15,0,15,103],[16,0,16,5],[16,6,16,28],[16,29,16,53],[16,54,16,69],[16,86,16,103],[18,0,18,28],[18,29,18,53],[18,54,18,69],[18,70,18,85],[18,86,18,103],[20,0,20,103],[21,22,21,103],[23,0,23,5],[24,0,24,5],[24,6,24,28],[26,29,26,49],[26,50,26,67],[26,68,26,85],[26,86,26,103],[27,0,27,28],[27,29,27,49],[27,50,27,67],[27,68,27,85],[27,86,27,103],[29,29,29,49],[29,50,29,67],[29,68,29,85],[30,0,30,28],[31,0,31,5],[31,6,31,28],[31,29,31,49],[37,0,37,5],[37,50,37,67],[37,68,37,85],[37,86,37,103],[44,50,44,67],[47,0,47,103],[59,0,59,5],[59,7,59,72],[61,0,61,5],[61,6,61,72],[61,73,61,88],[61,89,61,103],[63,0,63,103],[64,0,64,5],[64,7,64,72],[64,73,64,88],[64,89,64,103],[69,0,69,5],[69,7,69,72],[69,73,69,88],[69,89,69,103],[70,89,70,103],[75,7,75,72],[80,0,80,5],[80,7,80,72],[80,73,80,88],[84,0,84,103],[86,0,86,103],[88,22,88,103],[90,0,90,6],[90,7,90,53],[90,54,90,69],[90,70,90,85],[90,86,90,103],[91,0,91,6],[91,7,91,53],[91,54,91,69],[91,70,91,85],[91,86,91,103],[92,0,92,103],[93,0,93,6],[93,7,93,53],[93,54,93,69],[93,70,93,85],[93,86,93,103],[94,0,94,6],[94,7,94,53],[94,54,94,69],[94,70,94,85],[94,86,94,103],[95,0,95,6],[95,7,95,53],[95,54,95,69],[95,70,95,85],[95,86,95,103],[96,0,96,6],[96,7,96,53],[96,54,96,69],[96,70,96,85],[97,0,97,6],[97,7,97,53],[97,54,97,69],[97,70,97,85],[97,86,97,103],[98,0,98,6],[98,7,98,53],[98,54,98,69],[98,70,98,85],[98,86,98,103],[99,0,99,6],[99,7,99,53],[99,54,99,69],[99,70,99,85],[99,86,99,103],[100,0,100,6],[100,7,100,53],[100,54,100,69],[100,70,100,85],[100,86,100,103],[101,0,101,6],[101,7,101,53],[101,54,101,69],[101,70,101,85],[101,86,101,103],[102,0,102,53],[102,54,102,69],[102,70,102,85],[102,86,102,103],[103,0,103,53],[103,54,103,69],[107,0,107,53],[107,54,107,69],[107,70,107,85],[107,86,107,103],[108,0,108,103],[112,0,112,6],[112,7,112,53],[112,54,112,69],[112,70,112,85],[112,86,112,103],[113,0,113,6],[113,7,113,53],[113,54,113,69],[113,70,113,85],[113,86,113,103],[114,0,114,103],[115,0,115,6],[115,7,115,53],[115,54,115,69],[115,70,115,85],[115,86,115,103],[116,0,116,6],[116,7,116,53],[116,54,116,69],[116,70,116,85],[116,86,116,103],[117,0,117,6],[117,7,117,53],[117,54,117,69],[117,70,117,85],[117,86,117,103],[118,0,118,6],[118,7,118,53],[118,54,118,69],[118,70,118,85],[118,86,118,103],[119,0,119,53],[119,54,119,69],[119,70,119,85],[119,86,119,103],[121,0,121,103],[123,0,123,103],[125,22,125,103],[127,0,127,6],[127,7,127,53],[127,54,127,69],[127,70,127,85],[127,86,127,103],[128,0,128,6],[128,7,128,53],[128,54,128,69],[128,70,128,85],[128,86,128,103],[129,0,129,103],[130,0,130,6],[130,7,130,53],[130,54,130,69],[130,70,130,85],[130,86,130,103],[131,0,131,6],[131,7,131,53],[131,54,131,69],[131,70,131,85],[131,86,131,103],[132,0,132,53],[132,54,132,69],[132,70,132,85],[132,86,132,103],[133,0,133,103],[134,0,134,6],[134,7,134,53],[134,54,134,69],[134,70,134,85],[134,86,134,103],[135,0,135,6],[135,7,135,53],[135,54,135,69],[135,70,135,85],[135,86,135,103],[136,0,136,53],[136,54,136,69],[136,70,136,85],[136,86,136,103],[137,0,137,53],[137,54,137,69],[137,70,137,85],[137,86,137,103],[141,22,141,103],[143,0,143,6],[143,7,143,53],[143,54,143,69],[143,70,143,85],[143,86,143,103],[144,0,144,6],[144,7,144,53],[144,54,144,69],[144,70,144,85],[144,86,144,103],[146,70,146,85],[146,86,146,103],[147,0,147,6],[147,7,147,53],[147,54,147,69],[147,70,147,85],[147,86,147,103],[148,0,148,53],[148,54,148,69],[148,70,148,85],[148,86,148,103],[149,0,149,103],[150,0,150,6],[150,7,150,53],[150,54,150,69],[150,70,150,85],[150,86,150,103],[151,0,151,6],[151,7,151,53],[151,54,151,69],[151,70,151,85],[151,86,151,103],[152,0,152,53],[152,54,152,69],[152,70,152,85],[152,86,152,103],[153,0,153,53],[153,54,153,69],[153,70,153,85],[153,86,153,103],[156,22,156,103],[158,54,158,69],[159,0,159,6],[159,7,159,53],[159,54,159,69],[159,70,159,85],[159,86,159,103],[160,0,160,103],[161,0,161,6],[161,7,161,53],[161,54,161,69],[161,70,161,85],[161,86,161,103],[162,0,162,6],[162,7,162,53],[162,54,162,69],[162,70,162,85],[162,86,162,103],[163,0,163,6],[163,7,163,53],[163,54,163,69],[163,70,163,85],[163,86,163,103],[164,0,164,6],[164,7,164,53],[164,54,164,69],[164,70,164,85],[164,86,164,103],[165,0,165,6],[165,7,165,53],[166,0,166,53],[166,54,166,69],[166,70,166,85],[166,86,166,103],[168,0,168,103],[170,22,170,103],[172,0,172,6],[172,7,172,53],[172,54,172,69],[172,70,172,85],[172,86,172,103],[173,0,173,6],[173,7,173,53],[174,0,174,103],[175,0,175,6],[175,7,175,53],[175,54,175,69],[175,70,175,85],[175,86,175,103],[176,0,176,53],[176,54,176,69],[176,70,176,85],[176,86,176,103],[177,0,177,103],[178,0,178,6],[178,7,178,53],[178,54,178,69],[178,70,178,85],[178,86,178,103],[179,0,179,53],[179,54,179,69],[179,70,179,85],[179,86,179,103],[180,0,180,53],[180,54,180,69],[180,70,180,85],[180,86,180,103],[182,0,182,103],[184,22,184,103],[186,0,186,6],[186,7,186,53],[186,54,186,69],[186,70,186,85],[186,86,186,103],[187,0,187,6],[187,7,187,53],[187,54,187,69],[187,70,187,85],[187,86,187,103],[188,0,188,103],[189,0,189,6],[189,7,189,53],[189,54,189,69],[189,70,189,85],[189,86,189,103],[190,0,190,6],[190,7,190,53],[190,54,190,69],[190,70,190,85],[190,86,190,103],[191,0,191,6],[191,7,191,53],[191,54,191,69],[191,70,191,85],[191,86,191,103],[192,0,192,6],[192,7,192,53],[192,54,192,69],[192,70,192,85],[192,86,192,103],[193,0,193,53],[193,54,193,69],[193,70,193,85],[193,86,193,103],[194,0,194,103],[195,0,195,6],[195,7,195,53],[195,54,195,69],[195,70,195,85],[195,86,195,103],[196,0,196,53],[196,54,196,69],[196,70,196,85],[196,86,196,103],[197,0,197,53],[197,54,197,69],[197,70,197,85],[197,86,197,103],[199,22,199,103],[200,0,200,6],[200,7,200,53],[200,54,200,69],[200,70,200,85],[200,86,200,103],[201,0,201,6],[201,7,201,53],[201,54,201,69],[201,70,201,85],[201,86,201,103],[202,0,202,103],[203,0,203,6],[204,0,204,53],[204,54,204,69],[204,70,204,85],[204,86,204,103],[205,0,205,103],[214,0,214,103],[218,0,218,6],[219,0,219,6],[219,7,219,39],[219,40,219,55],[219,56,219,71],[219,72,219,87],[219,88,219,103],[220,0,220,103],[221,0,221,6],[221,7,221,39],[221,40,221,55],[221,56,221,71],[221,72,221,87],[221,88,221,103],[222,0,222,6],[222,7,222,39],[222,40,222,55],[222,56,222,71],[222,72,222,87],[222,88,222,103],[223,0,223,6],[223,7,223,39],[223,40,223,55],[223,56,223,71],[223,72,223,87],[223,88,223,103],[224,0,224,6],[224,7,224,39],[224,40,224,55],[224,56,224,71],[224,72,224,87],[224,88,224,103],[225,0,225,6],[225,7,225,39],[225,40,225,55],[225,56,225,71],[225,72,225,87],[225,88,225,103],[226,0,226,39],[226,40,226,55],[226,56,226,71],[226,72,226,87],[226,88,226,103],[227,0,227,103],[228,0,228,6],[228,7,228,39],[228,40,228,55],[228,56,228,71],[228,72,228,87],[228,88,228,103],[229,0,229,39],[229,40,229,55],[229,56,229,71],[229,72,229,87],[229,88,229,103],[230,0,230,39],[230,40,230,55],[230,56,230,71],[230,72,230,87],[230,88,230,103],[232,0,232,103],[234,22,234,103],[236,0,236,6],[236,7,236,53],[236,54,236,69],[236,70,236,85],[236,86,236,103],[237,0,237,6],[237,7,237,53],[237,54,237,69],[237,70,237,85],[237,86,237,103],[238,0,238,103],[239,0,239,6],[239,7,239,53],[239,54,239,69],[239,70,239,85],[239,86,239,103],[240,0,240,6],[240,7,240,53],[240,54,240,69],[240,70,240,85],[240,86,240,103],[241,0,241,53],[241,54,241,69],[241,70,241,85],[241,86,241,103],[242,0,242,103],[243,0,243,6],[243,7,243,53],[243,54,243,69],[243,70,243,85],[243,86,243,103],[244,0,244,53],[244,54,244,69],[244,70,244,85],[244,86,244,103],[245,0,245,53],[245,54,245,69],[245,70,245,85],[245,86,245,103],[247,0,247,103],[249,22,249,103],[251,0,251,6],[251,7,251,39],[251,40,251,55],[251,56,251,71],[251,72,251,87],[251,88,251,103],[252,0,252,6],[252,7,252,39],[252,40,252,55],[252,56,252,71],[252,72,252,87],[252,88,252,103],[253,0,253,103],[254,0,254,6],[254,7,254,39],[254,40,254,55],[254,56,254,71],[254,72,254,87],[254,88,254,103],[255,0,255,6],[255,7,255,39],[255,40,255,55],[255,56,255,71],[255,72,255,87],[255,88,255,103],[256,0,256,39],[256,40,256,55],[256,56,256,71],[256,72,256,87],[256,88,256,103],[258,0,258,103],[259,0,259,6],[259,7,259,39],[259,40,259,55],[259,56,259,71],[259,72,259,87],[259,88,259,103],[260,0,260,39],[260,40,260,55],[260,56,260,71],[260,72,260,87],[260,88,260,103],[263,0,263,103],[264,0,264,103],[265,0,265,6],[265,7,265,39],[265,40,265,55],[265,56,265,71],[265,72,265,87],[265,88,265,103],[266,0,266,6],[266,7,266,39],[266,40,266,55],[266,56,266,71],[266,72,266,87],[266,88,266,103],[267,0,267,6],[267,7,267,39],[267,40,267,55],[267,56,267,71],[267,72,267,87],[267,88,267,103],[269,0,269,6],[269,7,269,39],[269,40,269,55],[269,56,269,71],[269,72,269,87],[269,88,269,103],[270,0,270,6],[270,7,270,39],[270,40,270,55],[270,56,270,71],[270,72,270,87],[270,88,270,103],[271,0,271,6],[271,7,271,39],[271,40,271,55],[271,56,271,71],[271,72,271,87],[271,88,271,103],[272,0,272,39],[272,40,272,55],[272,56,272,71],[272,72,272,87],[272,88,272,103],[274,0,274,103],[275,0,275,6],[275,7,275,39],[275,40,275,55],[275,56,275,71],[275,72,275,87],[275,88,275,103],[276,0,276,6],[276,7,276,39],[276,40,276,55],[276,56,276,71],[276,72,276,87],[276,88,276,103],[277,0,277,6],[277,7,277,39],[277,40,277,55],[277,56,277,71],[277,72,277,87],[277,88,277,103],[279,0,279,6],[279,7,279,39],[279,40,279,55],[279,56,279,71],[279,72,279,87],[279,88,279,103],[280,0,280,6],[280,7,280,39],[280,40,280,55],[280,56,280,71],[280,72,280,87],[280,88,280,103],[281,0,281,6],[281,7,281,39],[281,40,281,55],[281,56,281,71],[281,72,281,87],[281,88,281,103],[282,0,282,39],[282,40,282,55],[282,56,282,71],[282,72,282,87],[282,88,282,103],[283,0,283,39],[283,40,283,55],[283,72,283,87],[283,88,283,103],[284,0,284,103],[286,22,286,103],[288,0,288,6],[288,7,288,53],[288,54,288,69],[288,70,288,85],[288,86,288,103],[289,0,289,6],[289,7,289,53],[289,70,289,85],[289,86,289,103],[290,0,290,103],[291,7,291,53],[291,54,291,69],[291,70,291,85],[291,86,291,103],[292,0,292,53],[292,54,292,69],[292,70,292,85],[292,86,292,103],[293,0,293,103],[295,54,295,69],[296,54,296,69],[296,70,296,85],[296,86,296,103],[298,0,298,103],[300,22,300,103],[302,0,302,6],[302,7,302,53],[302,54,302,69],[302,70,302,85],[302,86,302,103],[303,86,303,103],[305,0,305,6],[305,7,305,53],[305,54,305,69],[305,70,305,85],[305,86,305,103],[306,0,306,6],[306,7,306,53],[306,54,306,69],[306,70,306,85],[306,86,306,103],[307,0,307,6],[307,7,307,53],[307,54,307,69],[307,70,307,85],[307,86,307,103],[308,0,308,6],[308,7,308,53],[308,54,308,69],[308,70,308,85],[308,86,308,103],[309,0,309,6],[309,7,309,53],[311,0,311,6],[311,7,311,53],[311,54,311,69],[311,70,311,85],[311,86,311,103],[313,0,313,6],[313,7,313,53],[313,54,313,69],[313,86,313,103],[315,0,315,6],[315,7,315,53],[315,54,315,69],[315,70,315,85],[315,86,315,103],[316,0,316,6],[316,7,316,53],[316,54,316,69],[316,70,316,85],[316,86,316,103],[317,0,317,6],[317,7,317,53],[317,54,317,69],[317,70,317,85],[318,54,318,69],[318,70,318,85],[318,86,318,103],[319,70,319,85],[319,86,319,103],[321,0,321,6],[321,70,321,85],[321,86,321,103],[322,7,322,53],[323,54,323,69],[323,70,323,85],[325,0,325,6],[325,54,325,69],[325,70,325,85],[325,86,325,103],[327,0,327,6],[327,70,327,85],[327,86,327,103],[328,54,328,69],[328,70,328,85],[328,86,328,103],[329,0,329,53],[329,54,329,69],[329,70,329,85],[329,86,329,103],[331,0,331,103],[336,70,336,85],[336,86,336,103],[337,0,337,103],[347,0,347,6],[347,7,347,69],[347,70,347,85],[347,86,347,103],[348,0,348,6],[348,7,348,69],[348,70,348,85],[348,86,348,103],[349,7,349,69],[349,70,349,85],[349,86,349,103],[350,0,350,6],[350,7,350,69],[350,70,350,85],[350,86,350,103],[351,7,351,69],[351,70,351,85],[351,86,351,103],[354,0,354,103],[356,0,356,6],[356,7,356,69],[356,70,356,85],[356,86,356,103],[357,0,357,6],[357,7,357,69],[357,70,357,85],[357,86,357,103],[358,0,358,6],[358,7,358,69],[358,70,358,85],[358,86,358,103],[359,0,359,6],[359,7,359,69],[359,70,359,85],[359,86,359,103],[360,0,360,69],[360,70,360,85],[360,86,360,103],[361,0,361,103],[362,0,362,6],[363,0,363,6],[363,7,363,69],[363,70,363,85],[363,86,363,103],[364,86,364,103],[367,0,367,103],[369,22,369,103],[371,86,371,103],[372,0,372,6],[372,7,372,69],[373,0,373,103],[374,0,374,6],[374,7,374,69],[374,70,374,85],[374,86,374,103],[375,0,375,69],[375,70,375,85],[375,86,375,103],[376,0,376,69],[376,70,376,85],[376,86,376,103],[377,0,377,103],[379,22,379,103],[381,0,381,6],[381,7,381,53],[381,54,381,69],[381,70,381,85],[381,86,381,103],[382,0,382,6],[382,7,382,53],[382,54,382,69],[382,70,382,85],[382,86,382,103],[383,0,383,103],[384,0,384,6],[384,7,384,53],[384,54,384,69],[384,70,384,85],[384,86,384,103],[385,0,385,6],[385,7,385,53],[385,54,385,69],[385,70,385,85],[385,86,385,103],[386,0,386,6],[386,7,386,53],[386,54,386,69],[386,70,386,85],[386,86,386,103],[387,0,387,6],[387,7,387,53],[387,54,387,69],[387,70,387,85],[387,86,387,103],[388,0,388,53],[388,54,388,69],[388,70,388,85],[388,86,388,103],[389,0,389,103],[390,0,390,6],[390,7,390,53],[390,54,390,69],[390,70,390,85],[390,86,390,103],[391,0,391,6],[391,7,391,53],[393,0,393,6],[393,7,393,53],[393,54,393,69],[393,70,393,85],[393,86,393,103],[394,0,394,53],[394,54,394,69],[394,70,394,85],[394,86,394,103],[395,0,395,103],[396,0,396,6],[396,7,396,53],[396,54,396,69],[396,70,396,85],[396,86,396,103],[397,0,397,53],[397,54,397,69],[397,70,397,85],[397,86,397,103],[398,0,398,69],[398,70,398,85],[398,86,398,103],[400,0,400,103],[402,22,402,103],[404,0,404,6],[404,7,404,45],[404,46,404,53],[404,54,404,69],[404,70,404,85],[404,86,404,103],[405,0,405,6],[405,7,405,45],[405,46,405,53],[405,54,405,69],[405,70,405,85],[405,86,405,103],[406,0,406,103],[407,0,407,6],[407,7,407,45],[407,46,407,53],[407,54,407,69],[407,70,407,85],[407,86,407,103],[408,0,408,6],[408,7,408,45],[408,46,408,53],[408,54,408,69],[408,70,408,85],[408,86,408,103],[409,0,409,6],[409,7,409,45],[409,46,409,53],[409,54,409,69],[409,70,409,85],[409,86,409,103],[410,0,410,6],[410,7,410,45],[410,46,410,53],[410,54,410,69],[410,70,410,85],[410,86,410,103],[411,0,411,6],[411,7,411,45],[411,46,411,53],[411,54,411,69],[411,70,411,85],[411,86,411,103],[412,0,412,6],[412,7,412,45],[412,46,412,53],[412,54,412,69],[412,70,412,85],[412,86,412,103],[413,0,413,53],[413,54,413,69],[413,70,413,85],[413,86,413,103],[414,0,414,103],[415,0,415,6],[415,86,415,103],[417,7,417,45],[417,46,417,53],[417,54,417,69],[420,0,420,53],[420,54,420,69],[420,70,420,85],[420,86,420,103],[421,0,421,103],[422,0,422,6],[422,7,422,45],[422,46,422,53],[422,54,422,69],[422,70,422,85],[422,86,422,103],[423,0,423,53],[423,54,423,69],[423,70,423,85],[423,86,423,103],[424,0,424,53],[424,54,424,69],[424,70,424,85],[424,86,424,103],[426,0,426,103],[431,7,431,53],[431,54,431,103],[433,0,433,103],[438,0,438,53],[438,54,438,103],[439,0,439,53],[439,54,439,103]],"merged_total":1390,"flags":["merged_cut"]}
["2.1.2. Обоснования (расчеты) прочих выплат персоналу "]
[]
["Код видов расходов",{"$nulls":21},"112"]
[]
["№ \nп/п",{"$nulls":5},"Наименование \nрасходов",{"$nulls":22},"Средний размер выплаты на одного работника в день, руб.",{"$nulls":24},"Количество работников, \nчел.",{"$nulls":15},"Количество \nдней",{"$nulls":15},"Сумма, руб. \n(гр. 3 x гр. 4 x \nгр. 5)"]
[1,{"$nulls":5},2,{"$nulls":22},3,{"$nulls":24},4,{"$nulls":15},5,{"$nulls":15},6]
["Источник финансового обеспечения:  4"]
["1",{"$nulls":5},"Командировочные расходы (суточные)",{"$nulls":22},100,{"$nulls":40},100,{"$nulls":15},{"v":10000,"d":"10,000.00"}]
["2",{"$nulls":5},"Командировочные расходы (проезд в командировку)",{"$nulls":22},18950,{"$nulls":24},10,{"$nulls":31},{"v":80000,"d":"80,000.00"}]
["3",{"$nulls":5},"Командировочные расходы (проживание)",{"$nulls":22},550,{"$nulls":40},10,{"$nulls":15},{"v":5500,"d":"5,500.00"}]
["4",{"$nulls":5},"Возмещение мед.комиссии при устройстве на работе",{"$nulls":22},8675.75,{"$nulls":40},4,{"$nulls":15},{"v":34500,"d":"34,500.00"}]
["Итого по источнику финансового обеспечения: ",{"$nulls":28},"х",{"$nulls":24},"х",{"$nulls":15},"х",{"$nulls":15},{"$f":"SUM(CI8:CI11)","v":{"v":130000,"d":"130,000.00"}}]
["Источник финансового обеспечения:  5"]
["1",{"$nulls":5},"Проезд к месту отдыха и обратно",{"$nulls":22},30900.98,{"$nulls":24},"20/9",{"$nulls":31},{"v":896128.27,"d":"896,128.27"}]
["Итого по источнику финансового обеспечения: ",{"$nulls":28},"х",{"$nulls":24},"х",{"$nulls":15},"х",{"$nulls":15},{"$f":"SUM(CI14:CI14)","v":{"v":896128.27,"d":"896,128.27"}}]
["Источник финансового обеспечения:  2"]
["1",{"$nulls":5},"Возмещение командировочных расходов (проживание)",{"$nulls":79},{"v":1050,"d":"1,050.00"}]
["Итого по источнику финансового обеспечения: ",{"$nulls":28},"х",{"$nulls":24},"х",{"$nulls":15},"х",{"$nulls":15},{"$f":"SUM(CI17:CZ17)","v":{"v":1050,"d":"1,050.00"}}]
["Итого:",{"$nulls":28},"х",{"$nulls":24},"х",{"$nulls":15},"х",{"$nulls":15},{"$f":"CI12+CI15+CI18","v":{"v":1027178.27,"d":"1,027,178.27"}}]
[]
["2.1.3. Расчеты (обоснования) выплат персоналу по уходу за ребенком"]
["Код видов расходов"]
[]
["№ \nп/п",{"$nulls":5},"Наименование \nрасходов",{"$nulls":22},"Средняя численность работников, получающих пособие",{"$nulls":20},"Количество выплат в год на одного работника",{"$nulls":17},"Размер \nвыплаты \n(пособия) \nв месяц, руб.",{"$nulls":17},"Сумма, руб. \n(гр. 3 x гр. 4 x \nгр. 5)"]
[1,{"$nulls":5},2,{"$nulls":22},3,{"$nulls":20},4,{"$nulls":17},5,{"$nulls":17},6]
["Источник финансового обеспечения: ____________________________________________________"]
[]
["Итого по источнику финансового обеспечения: ",{"$nulls":28},"х",{"$nulls":20},"х",{"$nulls":17},"х"]
["Источник финансового обеспечения: ____________________________________________________"]
[]
["Итого по источнику финансового обеспечения: ",{"$nulls":28},"х",{"$nulls":20},"х",{"$nulls":17},"х"]
[{"$nulls":6},"Итого: ",{"$nulls":22},"х",{"$nulls":20},"х",{"$nulls":17},"х"]
[]
["2.1.4. Расчеты (обоснования) иных выплат персоналу учреждений, за исключением фонда оплаты труда"]
[]
["Код видов расходов",{"$nulls":21},"113"]
[]
["№ \nп/п",{"$nulls":5},"Наименование \nрасходов",{"$nulls":43},"Количество работников, \nчел.",{"$nulls":17},"Средний размер \nвыплаты, руб.",{"$nulls":17},"Сумма, руб. \n(гр. 3 x гр. 4 x \nгр. 5)"]
[1,{"$nulls":5},2,{"$nulls":22},3,{"$nulls":20},4,{"$nulls":17},5,{"$nulls":17},6]
["Источник финансового обеспечения: 4"]
["1",{"$nulls":5},"Возмещение расходов учащимся (медкомиссии)",{"$nulls":43},23,{"$nulls":17},{"v":2930,"d":"2,930.00"},{"$nulls":17},{"v":67390,"d":"67,390.00"}]
["Итого по источнику финансового обеспечения: ",{"$nulls":49},"х",{"$nulls":17},"х",{"$nulls":17},{"$f":"CI41","v":{"v":67390,"d":"67,390.00"}}]
["Источник финансового обеспечения: ____________________________________________________"]
[]
["Итого по источнику финансового обеспечения: ",{"$nulls":49},"х",{"$nulls":17},"х"]
[{"$nulls":6},"Итого: ",{"$nulls":43},"х",{"$nulls":17},"х"]
[]
["2.1.5. Расчеты (обоснования) страховых взносов на обязательное пенсионное страхование, на обязательное социальное страхование на случай временной нетрудоспособности и в связи с материнством, на обязательное социальное страхование от несчастных случаев на производстве и профессиональных заболеваний, на обязательное медицинское страхование\n"]
[]
["Код видов расходов",{"$nulls":21},"119"]
[]
["№ \nп/п",{"$nulls":5},"Наименование государственного внебюджетного фонда",{"$nulls":66},"Размер базы \nдля начисления страховых взносов, руб.",{"$nulls":15},"Сумма \nвзноса, \nруб."]
[1,{"$nulls":5},2,{"$nulls":66},3,{"$nulls":15},4]
["Источник финансового обеспечения: 4"]
["1",{"$nulls":6},"Страховые взносы на обязательное пенсионное страхование, на обязательное социальное страхование на случай временной нетрудоспособности и в связи с материнством, на обязательное медицинское страхование, всего",{"$nulls":65},{"$f":"BV56","v":{"v":53124246.25,"d":"53,124,246.25"}},{"$nulls":15},{"$f":"CL56+CL58","v":{"v":16014832.370000001,"d":"16,014,832.37"}}]
["1.1",{"$nulls":6},"в том числе:",{"$nulls":65},{"$f":"справочно!E50","v":{"v":53124246.25,"d":"53,124,246.25 "}},{"$nulls":15},{"v":15908773.88,"d":"15,908,773.88 "}]
[{"$nulls":7},"по ставке 30,0%"]
[{"$nulls":7},"по ставке 0,2%",{"$nulls":81},{"v":106058.49,"d":"106,058.49 "}]
["1.2",{"$nulls":6},"по ставке 15,1%"]
["1.3",{"$nulls":6},"с применением пониженных тарифов взносов  для отдельных категорий плательщиков"]
["2",{"$nulls":6},"Дополнительные тарифы на ОПС в установленных случаях проведения специальной оценки условий труда для отдельных категорий плательщиков, производящих выплаты физическим лицам, которые имеют право на досрочное назначение страховой пенсии"]
[{"$nulls":6},"Итого по источнику финансового обеспечения: ",{"$nulls":66},"х",{"$nulls":15},{"$f":"CL55","v":{"v":16014832.370000001,"d":"16,014,832.37"}}]
[]
["Источник финансового обеспечения: 5"]
["1",{"$nulls":6},"Страховые взносы на обязательное пенсионное страхование, на обязательное социальное страхование на случай временной нетрудоспособности и в связи с материнством, на обязательное медицинское страхование, всего",{"$nulls":65},{"$f":"BV66","v":{"v":5382000,"d":"5,382,000.00 "}},{"$nulls":15},{"$f":"CL66+CL68","v":{"v":1658151.73,"d":"1,658,151.73 "}}]
["1.1",{"$nulls":6},"в том числе:",{"$nulls":65},{"$f":"справочно!F50","v":{"v":5382000,"d":"5,382,000.00 "}},{"$nulls":15},{"$f":"1614600+32771.73","v":{"v":1647371.73,"d":"1,647,371.73 "}}]
[{"$nulls":7},"по ставке 30,0%"]
[{"$nulls":7},"по ставке 0,2%",{"$nulls":81},{"$f":"10780","v":{"v":10780,"d":"10,780.00 "}}]
["1.2",{"$nulls":6},"по ставке 15,1%"]
["1.3",{"$nulls":6},"с применением пониженных тарифов взносов  для отдельных категорий плательщиков"]
["2",{"$nulls":6},"Дополнительные тарифы на ОПС в установленных случаях проведения специальной оценки условий труда для отдельных категорий плательщиков, производящих выплаты физическим лицам, которые имеют право на досрочное назначение страховой пенсии"]
[{"$nulls":6},"Итого по источнику финансового обеспечения: ",{"$nulls":66},"х",{"$nulls":15},{"$f":"CL65","v":{"v":1658151.73,"d":"1,658,151.73"}}]
[]
["Источник финансового обеспечения: 2"]
["1",{"$nulls":6},"Страховые взносы на обязательное пенсионное страхование, на обязательное социальное страхование на случай временной нетрудоспособности и в связи с материнством, на обязательное медицинское страхование, всего",{"$nulls":65},{"$f":"BV76","v":{"v":1624790.32,"d":"1,624,790.32 "}},{"$nulls":15},{"$f":"CL76+CL78","v":{"v":490716.87,"d":"490,716.87 "}}]
["1.1",{"$nulls":6},"в том числе:",{"$nulls":65},{"$f":"справочно!H50","v":{"v":1624790.32,"d":"1,624,790.32 "}},{"$nulls":15},{"v":487437.1,"d":"487,437.10 "}]
[{"$nulls":7},"по ставке 30,0%"]
[{"$nulls":7},"по ставке 0,2%",{"$nulls":81},{"v":3279.77,"d":"3,279.77 "}]
["1.2",{"$nulls":6},"по ставке 15,1%"]
["1.3",{"$nulls":6},"с применением пониженных тарифов взносов  для отдельных категорий плательщиков"]
["2",{"$nulls":6},"Дополнительные тарифы на ОПС в установленных случаях проведения специальной оценки условий труда для отдельных категорий плательщиков, производящих выплаты физическим лицам, которые имеют право на досрочное назначение страховой пенсии"]
[{"$nulls":6},"Итого по источнику финансового обеспечения: ",{"$nulls":66},"х",{"$nulls":15},{"$f":"CL75","v":{"v":490716.87,"d":"490,716.87"}}]
[{"$nulls":6},"Итого:",{"$nulls":66},"х",{"$nulls":15},{"$f":"CL62+CL72+CL82","v":{"v":18163700.970000003,"d":"18,163,700.97"}}]
[]
["2.2. Расчеты (обоснования) расходов на социальные и иные выплаты населению"]
[]
["2.2.1.Расчеты (обоснования) расходов на пособия, компенсации и иные социальные выплаты гражданам, кроме публичных нормативных обязательств"]
[]
["Код видов расходов",{"$nulls":21},"321"]
[]
["№ \nп/п",{"$nulls":6},"Наименование показателя",{"$nulls":46},"Размер одной выплаты, руб.",{"$nulls":15},"Количество \nвыплат в год",{"$nulls":15},"Общая сумма выплат, руб. \n(гр. 3 x гр. 4)"]
[1,{"$nulls":6},2,{"$nulls":46},3,{"$nulls":15},4,{"$nulls":15},5]
["Источник финансового обеспечения: 5"]
["1",{"$nulls":6},"Компенсация за питание учащимся ТЖС за дни практики",{"$nulls":46},{"v":215,"d":"215.00"},{"$nulls":15},1119,{"$nulls":15},{"$f":"BC94*BS94","v":{"v":240585,"d":"240,585.00"}}]
["2",{"$nulls":6},"Компенсация за питание детям-сиротам",{"$nulls":46},"540/595",{"$nulls":31},{"v":1980454,"d":"1,980,454.00"}]
["3",{"$nulls":6},"Компенсация стоимости проезда к месту учебы и обратно",{"$nulls":78},{"v":0,"d":"0.00"}]
["4",{"$nulls":6},"Компенсация стоимости проезда к месту отдыха и обратно",{"$nulls":46},{"v":12538.6,"d":"12,538.60"},{"$nulls":15},1,{"$nulls":15},{"$f":"BC97*BS97","v":{"v":12538.6,"d":"12,538.60"}}]
["5",{"$nulls":6},"Единовременное пособие при выпуске",{"$nulls":46},{"v":500,"d":"500.00"},{"$nulls":15},8,{"$nulls":15},{"$f":"BC98*BS98","v":{"v":4000,"d":"4,000.00"}}]
["6",{"$nulls":6},"Компенсация при выпуске",{"$nulls":46},{"v":93334.78,"d":"93,334.78"},{"$nulls":15},8,{"$nulls":15},{"v":746678.24,"d":"746,678.24"}]
["7",{"$nulls":6},"Компенсация стоимости канцелярских принадлежностей детям-сиротам",{"$nulls":46},{"v":6153,"d":"6,153.00"},{"$nulls":15},14,{"$nulls":15},{"v":86142,"d":"86,142.00"}]
["8",{"$nulls":6},"Компенсация стоимости канцелярских принадлежностей учащимся под опекой ",{"$nulls":46},{"v":6153,"d":"6,153.00"},{"$nulls":15},3,{"$nulls":15},{"v":18459,"d":"18,459.00"}]
["9",{"$nulls":6},"Компенсация стоимости лекарственных препаратов детям-сиротам",{"$nulls":46},{"v":1728.87,"d":"1,728.87"},{"$nulls":15},1,{"$nulls":15},{"v":1728.16,"d":"1,728.16"}]
["Итого по источнику финансового обеспечения: ",{"$nulls":53},"х",{"$nulls":15},"х",{"$nulls":15},{"$f":"SUM(CI94:CI102)","v":{"v":3090585,"d":"3,090,585.00"}}]
["Итого: ",{"$nulls":53},"х",{"$nulls":15},"х",{"$nulls":15},{"$f":"SUM(CI94:CZ102)","v":{"v":3090585,"d":"3,090,585.00"}}]
["Источник финансового обеспечения: 2"]
["1",{"$nulls":6},"Материальная помощь учащимся"]
["Итого: ",{"$nulls":53},"х",{"$nulls":15},"х",{"$nulls":15},{"$f":"CI106","v":{"v":0,"d":"0.00"}}]
["ВСЕГО: ",{"$nulls":53},"х",{"$nulls":15},"х",{"$nulls":15},{"$f":"CI104+CI107","v":{"v":3090585,"d":"3,090,585.00"}}]
["2.2.2.Расчеты (обоснования) расходов на приобретение товаров, работ, услуг в пользу граждан в целях их социального обеспечения"]
[]
["Код видов расходов",{"$nulls":21},"323"]
[]
["№ \nп/п",{"$nulls":6},"Наименование показателя",{"$nulls":46},"Количество \nтоваров (работ, услуг), ед.",{"$nulls":15},"Средняя стоимость, руб.",{"$nulls":15},"Сумма, руб. \n(гр. 3 x гр. 4)"]
[1,{"$nulls":6},2,{"$nulls":46},3,{"$nulls":15},4,{"$nulls":15},5]
["Источник финансового обеспечения: 5____________________________________________________"]
["1",{"$nulls":6},"Приобретение продуктов питания обучающимся из ТЖС",{"$nulls":78},{"v":1771815,"d":"1,771,815.00"}]
["2",{"$nulls":6},"Приобретение продуктов питания для детей-сирот",{"$nulls":78},{"v":1362839,"d":"1,362,839.00"}]
["3",{"$nulls":6},"Приобретение предметов мягкого инвентаря",{"$nulls":62},93334.78,{"$nulls":15},{"$f":"330161+913000","v":{"v":1243161,"d":"1,243,161.00"}}]
["4",{"$nulls":6},"Приобретение предметов личной гигиены",{"$nulls":62},1000,{"$nulls":15},{"v":132000,"d":"132,000.00"}]
["Итого по источнику финансового обеспечения: ",{"$nulls":53},"х",{"$nulls":15},"х",{"$nulls":15},{"$f":"SUM(CI116:CI119)","v":{"v":4509815,"d":"4,509,815.00"}}]
[]
["2.3. Расчет (обоснование) расходов на уплату налогов, сборов и иных платежей"]
[]
["2.3.1. Расчет (обоснование) расходов на уплату налога на имущество организаций и земельный налог"]
[]
["Код видов расходов",{"$nulls":21},"851"]
[]
["№ \nп/п",{"$nulls":6},"Наименование показателя",{"$nulls":46},"Налоговая база, руб.",{"$nulls":15},"Ставка налога, \n%",{"$nulls":15},"Сумма исчисленного налога, подлежащего уплате, руб. \n(гр. 3 x гр. 4 / 100)"]
[1,{"$nulls":6},2,{"$nulls":46},3,{"$nulls":15},4,{"$nulls":15},5]
["Источник финансового обеспечения: 4"]
["1",{"$nulls":6},"Налог на имущество",{"$nulls":46},{"v":109462216.52,"d":"109,462,216.52"},{"$nulls":15},2.2,{"$nulls":15},{"v":2312597,"d":"2,312,597.00"}]
["1",{"$nulls":6},"Земельный налог (51:28:0050001:23)",{"$nulls":46},{"v":15784719.09,"d":"15,784,719.09"},{"$nulls":15},1.5,{"$nulls":15},{"v":229668,"d":"229,668.00"}]
["Итого по источнику финансового обеспечения: ",{"$nulls":53},"х",{"$nulls":15},"х",{"$nulls":15},{"$f":"CI131+CI132","v":{"v":2542265,"d":"2,542,265.00"}}]
["Источник финансового обеспечения: 2 (0,003)"]
["1",{"$nulls":6},"Налог на имущество",{"$nulls":46},{"$f":"BC131","v":{"v":109462216.52,"d":"109,462,216.52"}},{"$nulls":15},2.2,{"$nulls":15},{"v":104831,"d":"104,831.00"}]
["1",{"$nulls":6},"Земельный налог (51:28:0050001:23)",{"$nulls":46},{"$f":"BC132","v":{"v":15784719.09,"d":"15,784,719.09"}},{"$nulls":15},1.5,{"$nulls":15},{"v":7103,"d":"7,103.00"}]
["Итого по источнику финансового обеспечения: ",{"$nulls":53},"х",{"$nulls":15},"х",{"$nulls":15},{"$f":"SUM(CI135:CZ136)","v":{"v":111934,"d":"111,934.00"}}]
["Итого: ",{"$nulls":53},"х",{"$nulls":15},"х",{"$nulls":15},{"$f":"CI133+CI137","v":{"v":2654199,"d":"2,654,199.00"}}]
[]
["2.3.2. Расчет (обоснование) расходов на уплату иных налогов (включаемых в состав расходов) в бюджеты бюджетной системы Российской Федерации, а также государственной пошлины"]
[]
["Код видов расходов",{"$nulls":21},"852"]
[]
["№ \nп/п",{"$nulls":6},"Наименование показателя",{"$nulls":46},"Налоговая база, л/с",{"$nulls":15},"Ставка налога, руб.",{"$nulls":15},"Сумма исчисленного налога, подлежащего уплате, руб. \n(гр. 3 x гр. 4 / 100)"]
[1,{"$nulls":6},2,{"$nulls":46},3,{"$nulls":15},4,{"$nulls":15},5]
["Источник финансового обеспечения: 4"]
["1",{"$nulls":6},"Транспортный налог Легковой автомобиль ВАЗ 21140, \n2006 г.в.",{"$nulls":46},77.5,{"$nulls":15},12,{"$nulls":15},{"v":902,"d":"902.00"}]
["2",{"$nulls":6},"Транспортный налог Грузовой автомобиль \nГАЗ -2705, 2006 г.в.",{"$nulls":46},140,{"$nulls":15},32,{"$nulls":15},{"v":4345,"d":"4,345.00"}]
["Итого по источнику финансового обеспечения: ",{"$nulls":53},"х",{"$nulls":15},"х",{"$nulls":15},{"$f":"SUM(CI147:CI148)","v":{"v":5247,"d":"5,247.00"}}]
["Источник финансового обеспечения: 2 (0,003)"]
["1",{"$nulls":6},"Транспортный налог Легковой автомобиль ВАЗ 21140, \n2006 г.в. ",{"$nulls":46},77.5,{"$nulls":15},12,{"$nulls":15},{"v":28,"d":"28.00"}]
["2",{"$nulls":6},"Транспортный налог Грузовой автомобиль \nГАЗ -2705, 2006 г.в.",{"$nulls":46},140,{"$nulls":15},32,{"$nulls":15},{"v":135,"d":"135.00"}]
["Итого по источнику финансового обеспечения: ",{"$nulls":53},"х",{"$nulls":15},"х",{"$nulls":15},{"$f":"SUM(CI151:CI152)","v":{"v":163,"d":"163.00"}}]
["Итого: ",{"$nulls":53},"х",{"$nulls":15},"х",{"$nulls":15},{"$f":"CI149+CI153","v":{"v":5410,"d":"5,410.00"}}]
["2.3.3. Расчет (обоснование) расходов на уплату штрафов (в том числе административных), пеней, иных платежей"]
[]
["Код видов расходов",{"$nulls":21},"853"]
[]
["№ \nп/п",{"$nulls":6},"Наименование показателя",{"$nulls":46},"Налоговая база, руб.",{"$nulls":15},"Ставка налога, \n%",{"$nulls":15},"Сумма исчисленного налога, подлежащего уплате, руб. \n(гр. 3 x гр. 4 / 100)"]
[1,{"$nulls":6},2,{"$nulls":46},3,{"$nulls":15},4,{"$nulls":15},5]
["Источник финансового обеспечения: 2"]
["1",{"$nulls":6},"Штрафы, пени за несвоевременную уплату налогов, сборов, страховых взносов",{"$nulls":78},{"v":0,"d":"0.00"}]
["2",{"$nulls":6},"Штрафы за нарушение законодательства о закупках и нарушение условий контрактов (договоров)",{"$nulls":78},{"v":105,"d":"105.00"}]
["3",{"$nulls":6},"Штрафные санкции, пени",{"$nulls":78},{"v":0,"d":"0.00"}]
["4",{"$nulls":6},"Иные выплаты текущего характера физическим лицам",{"$nulls":78},{"v":5831.45,"d":"5,831.45"}]
["5",{"$nulls":6},"Иные выплаты текущего характера организациям",{"$nulls":78},{"v":0,"d":"0.00"}]
["Итого по источнику финансового обеспечения: ",{"$nulls":53},"х",{"$nulls":15},"х",{"$nulls":15},{"$f":"SUM(CI162:CI166)","v":{"v":5936.45,"d":"5,936.45"}}]
[]
["2.4. Расчет (обоснование) расходов на безвозмездные перечисления организациям"]
[]
["Код видов расходов"]
[]
["№ \nп/п",{"$nulls":6},"Наименование показателя",{"$nulls":46},"Размер одной выплаты, руб.",{"$nulls":15},"Количество \nвыплат в год",{"$nulls":15},"Общая сумма выплат, руб. \n(гр. 3 x гр. 4)"]
[1,{"$nulls":6},2,{"$nulls":46},3,{"$nulls":15},4,{"$nulls":15},5]
["Источник финансового обеспечения: ____________________________________________________"]
[]
["Итого по источнику финансового обеспечения: ",{"$nulls":53},"х",{"$nulls":15},"х"]
["Источник финансового обеспечения: ____________________________________________________"]
[]
["Итого по источнику финансового обеспечения: ",{"$nulls":53},"х",{"$nulls":15},"х"]
["Итого: ",{"$nulls":53},"х",{"$nulls":15},"х"]
[]
["2.5. Расчет (обоснование) прочих расходов (кроме расходов на закупку товаров, работ, услуг)"]
[]
["Код видов расходов",{"$nulls":21},"340"]
[]
["№ \nп/п",{"$nulls":6},"Наименование показателя",{"$nulls":46},"Размер одной выплаты, руб.",{"$nulls":15},"Среднегодовое количество стипендиатов \n(в мес.)",{"$nulls":15},"Общая сумма выплат, руб. \n(гр. 3 x гр. 4)"]
[1,{"$nulls":6},2,{"$nulls":46},3,{"$nulls":15},4,{"$nulls":15},5]
["Источник финансового обеспечения: 5____________________________________________________"]
["1",{"$nulls":6},"Стипендия обучающимся (академическая)",{"$nulls":46},{"v":1367,"d":"1,367.00"},{"$nulls":15},204,{"$nulls":15},{"v":3346416,"d":"3,346,416.00"}]
["2",{"$nulls":6},"Стипендия обучающимся (социальная)",{"$nulls":46},{"v":2051,"d":"2,051.00"},{"$nulls":15},60,{"$nulls":15},{"v":1476720,"d":"1,476,720.00"}]
["3",{"$nulls":6},"Стипендия обучающимся (именная)",{"$nulls":46},{"v":10000,"d":"10,000.00"},{"$nulls":15},4,{"$nulls":15},{"v":480000,"d":"480,000.00"}]
["4",{"$nulls":6},"Повышенные стипендии за особые успехи в учебной и научной деятельности",{"$nulls":78},{"v":334664,"d":"334,664.00"}]
["Итого по источнику финансового обеспечения: ",{"$nulls":53},"х",{"$nulls":15},"х",{"$nulls":15},{"$f":"SUM(CI190:CZ193)","v":{"v":5637800,"d":"5,637,800.00"}}]
["Источник финансового обеспечения: 2____________________________________________________"]
["1",{"$nulls":6},"Стипендия Правительства РФ",{"$nulls":46},{"v":5600,"d":"5,600.00"},{"$nulls":15},0,{"$nulls":15},{"v":0,"d":"0.00"}]
["Итого по источнику финансового обеспечения: ",{"$nulls":53},"х",{"$nulls":15},"х",{"$nulls":15},{"$f":"SUM(CI196:CI196)","v":{"v":0,"d":"0.00"}}]
["Итого:",{"$nulls":53},"х",{"$nulls":15},"х",{"$nulls":15},{"$f":"CI194+CI197","v":{"v":5637800,"d":"5,637,800.00"}}]
[]
["Код видов расходов"]
["№ \nп/п",{"$nulls":6},"Наименование показателя",{"$nulls":46},"Размер одной выплаты, руб.",{"$nulls":15},"Среднегодовое получателей",{"$nulls":15},"Общая сумма выплат, руб. \n(гр. 3 x гр. 4)"]
[1,{"$nulls":6},2,{"$nulls":46},3,{"$nulls":15},4,{"$nulls":15},5]
["Источник финансового обеспечения: 2"]
["1"]
["Итого по источнику финансового обеспечения: ",{"$nulls":53},"х",{"$nulls":15},"х",{"$nulls":15},{"$f":"SUM(CI204:CI204)","v":{"v":0,"d":"0.00"}}]
["2.6. Расчет (обоснование) расходов на закупку товаров, работ, услуг"]
[]
["Код видов расходов",{"$nulls":21},"243"]
["№ \nп/п",{"$nulls":6},"Наименование расходов",{"$nulls":62},"Количество договоров, ед.",{"$nulls":15},"Стоимость \nуслуг (работ), руб."]
["Источник финансового обеспечения: 2"]
["1",{"$nulls":6},"Проведение тех.обследования, формирование ведомости работ, разработке сметной документации и получение положительного заключения гос. экспертизы в части определения достоверности сметной стоимости капитального ремонта учебного корпуса",{"$nulls":62},2,{"$nulls":15},{"$f":"599000+599000","v":{"v":1198000,"d":"1,198,000.00"}}]
["Итого по источнику финансового обеспечения: ",{"$nulls":69},"х",{"$nulls":15},{"$f":"SUM(CI211:CZ211)","v":{"v":1198000,"d":"1,198,000.00"}}]
["Итого:",{"$nulls":69},"х",{"$nulls":15},{"$f":"CI212","v":{"v":1198000,"d":"1,198,000.00"}}]
[]
["2.6.1. Расчет (обоснование) расходов на оплату услуг связи"]
[]
["Код видов расходов",{"$nulls":21},"244"]
[]
["№ \nп/п",{"$nulls":6},"Наименование расходов",{"$nulls":32},"Количество номеров",{"$nulls":15},"Количество платежей в год",{"$nulls":15},"Стоимость за единицу, руб.",{"$nulls":15},"Сумма, руб. \n(гр. 3 x гр. 4 x \nгр. 5)"]
[1,{"$nulls":6},2,{"$nulls":32},3,{"$nulls":15},4,{"$nulls":15},5,{"$nulls":15},6]
["Источник финансового обеспечения: 4"]
["1",{"$nulls":6},"Услуги связи по передаче данных",{"$nulls":32},1,{"$nulls":15},1,{"$nulls":15},{"v":850,"d":"850.00"},{"$nulls":15},{"$f":"850","v":{"v":850,"d":"850.00"}}]
["2",{"$nulls":6},"Предоставление абонентской линии ",{"$nulls":32},6,{"$nulls":15},12]
["3",{"$nulls":6},"Выделенный доступ в сети интернет",{"$nulls":32},1,{"$nulls":15},10,{"$nulls":15},{"v":5500,"d":"5,500.00"},{"$nulls":15},{"v":55000,"d":"55,000.00"}]
["4",{"$nulls":6},"Услуги почтовой свзи (кол-во отправлений)",{"$nulls":32},413,{"$nulls":15},413,{"$nulls":15},29.28,{"$nulls":15},{"v":11500,"d":"11,500.00"}]
["5",{"$nulls":6},"Услуги телефонной связи (местной, Внутризоновой, междугородней телефонной связи)",{"$nulls":32},"4740+5469+1006",{"$nulls":15},12,{"$nulls":15},{"v":4270.52,"d":"4,270.52"},{"$nulls":15},{"v":49650,"d":"49,650.00"}]
["Итого по источнику финансового обеспечения: ",{"$nulls":39},"х",{"$nulls":15},"х",{"$nulls":15},"х",{"$nulls":15},{"$f":"SUM(CK222:CK226)","v":{"v":117000,"d":"117,000.00"}}]
["Источник финансового обеспечения: 2"]
["1",{"$nulls":6},"Услуги почтовой свзи (кол-во отправлений)"]
["Итого по источнику финансового обеспечения: ",{"$nulls":39},"х",{"$nulls":15},"х"]
["Итого: ",{"$nulls":39},"х",{"$nulls":15},"х",{"$nulls":15},"х",{"$nulls":15},{"$f":"CK227+CK230","v":{"v":117000,"d":"117,000.00"}}]
[]
["2.6.2. Расчет (обоснование) расходов на оплату транспортных услуг"]
[]
["Код видов расходов",{"$nulls":21},"244"]
[]
["№ \nп/п",{"$nulls":6},"Наименование расходов",{"$nulls":46},"Количество \nуслуг \nперевозки",{"$nulls":15},"Цена услуги перевозки, \nруб.",{"$nulls":15},"Сумма, руб. \n(гр. 3 x гр. 4)"]
[1,{"$nulls":6},2,{"$nulls":46},3,{"$nulls":15},4,{"$nulls":15},5]
["Источник финансового обеспечения: 4"]
["1",{"$nulls":6},"Найм транспортных средств (эвакуатор)",{"$nulls":46},"1",{"$nulls":15},{"v":0,"d":"0.00"},{"$nulls":15},{"v":6000,"d":"6,000.00"}]
["2",{"$nulls":6},"Найм транспортных средств ",{"$nulls":46},1,{"$nulls":15},{"v":0,"d":"0.00"},{"$nulls":15},{"v":0,"d":"0.00"}]
["Итого по источнику финансового обеспечения: ",{"$nulls":53},"х",{"$nulls":15},"х",{"$nulls":15},{"$f":"SUM(CI240:CI241)","v":{"v":6000,"d":"6,000.00"}}]
["Источник финансового обеспечения: 2"]
[]
["Итого по источнику финансового обеспечения: ",{"$nulls":53},"х",{"$nulls":15},"х"]
["Итого: ",{"$nulls":53},"х",{"$nulls":15},"х"]
[]
["2.6.3. Расчет (обоснование) расходов на оплату коммунальных услуг"]
[]
["Код видов расходов",{"$nulls":21},"244"]
[]
["№ \nп/п",{"$nulls":6},"Наименование показателя",{"$nulls":32},"Размер потребления ресурсов",{"$nulls":15},"Тариф \n(с учетом НДС), руб.",{"$nulls":15},"Индексация, \n%",{"$nulls":15},"Сумма, руб. \n(гр. 4 x гр. 3 x гр. 5)"]
[1,{"$nulls":6},2,{"$nulls":32},3,{"$nulls":15},4,{"$nulls":15},5,{"$nulls":15},6]
["Источник финансового обеспечения: 4"]
["1",{"$nulls":6},"Вывоз ТКО (услугами регионального оператора)",{"$nulls":32},"151",{"$nulls":15},"1125,71",{"$nulls":31},{"v":174712.8,"d":"174,712.80"}]
["2",{"$nulls":6},"Услуги по обращению с отходами I и II классов опасности (услугами регионального оператора)",{"$nulls":80},{"v":11234.53,"d":"11,234.53"}]
["Итого по источнику финансового обеспечения: ",{"$nulls":39},"х",{"$nulls":15},"х",{"$nulls":15},"х",{"$nulls":15},{"$f":"SUM(CK255:CK256)","v":{"v":185947.33,"d":"185,947.33"}}]
[]
["Источник финансового обеспечения: 2"]
["1",{"$nulls":6},"Вывоз ТКО (услугами регионального оператора)",{"$nulls":32},"18",{"$nulls":15},"1102,97",{"$nulls":31},{"v":19853.46,"d":"19,853.46"}]
["Итого по источнику финансового обеспечения: ",{"$nulls":39},"х",{"$nulls":15},"х",{"$nulls":15},"х",{"$nulls":15},{"$f":"SUM(CK260:CZ260)","v":{"v":19853.46,"d":"19,853.46"}}]
["ИТОГО",{"$nulls":87},{"$f":"CK257+CK261","v":{"v":205800.78999999998,"d":"205,800.79"}}]
[]
["Код видов расходов 247"]
["Источник финансового обеспечения: 4"]
[1,{"$nulls":6},"Электроснабжение (Квт/ч)",{"$nulls":32},187306,{"$nulls":15},6.85,{"$nulls":31},{"v":1442652.91,"d":"1,442,652.91"}]
[2,{"$nulls":6},"Теплоснабжение на отопление (гКал)",{"$nulls":32},1828.327,{"$nulls":15},{"v":4036.9,"d":"4,036.90"},{"$nulls":31},{"v":8699276.67,"d":"8,699,276.67"}]
[3,{"$nulls":6},"Теплоснабжение на ГВС (гКал)",{"$nulls":32},79.792,{"$nulls":15},{"v":4036.9,"d":"4,036.90"},{"$nulls":31},{"v":356100,"d":"356,100.00"}]
[4,{"$nulls":6},"Теплоноситель (м3)",{"$nulls":32},630,{"$nulls":15},{"v":49.8,"d":"49.80"},{"$nulls":31},{"v":45415.52,"d":"45,415.52"}]
[5,{"$nulls":6},"Водоснабжение (питьевая вода) (м3)",{"$nulls":32},"1626,600",{"$nulls":15},"47,87",{"$nulls":31},{"v":98779.97,"d":"98,779.97"}]
[6,{"$nulls":6},"Водоотведение (м3)",{"$nulls":32},"2258,7",{"$nulls":15},"104,65",{"$nulls":31},{"v":307735.64,"d":"307,735.64"}]
[7,{"$nulls":6},"Негативное воздействие",{"$nulls":32},"579",{"$nulls":15},"145,05",{"$nulls":31},{"v":97351.09,"d":"97,351.09"}]
["Итого по источнику финансового обеспечения:",{"$nulls":39},"х",{"$nulls":15},"х",{"$nulls":15},"х",{"$nulls":15},{"$f":"SUM(CK266:CZ272)","v":{"v":11047311.8,"d":"11,047,311.80"}}]
[]
["Источник финансового обеспечения: 2"]
[1,{"$nulls":6},"Электроснабжение (Квт/ч)",{"$nulls":32},27644,{"$nulls":15},7.5,{"$nulls":31},{"v":207248.7,"d":"207,248.70"}]
[2,{"$nulls":6},"Теплоснабжение на отопление (гКал)",{"$nulls":32},66.97,{"$nulls":15},4302.24,{"$nulls":31},{"v":288121.26,"d":"288,121.26"}]
[2,{"$nulls":6},"Теплоснабжение на ГВС (гКал)",{"$nulls":32},2,{"$nulls":15},4302.24,{"$nulls":31},{"v":10031,"d":"10,031.00"}]
[3,{"$nulls":6},"Теплоноситель (м3)",{"$nulls":32},56,{"$nulls":15},19.67,{"$nulls":31},{"v":1101.3,"d":"1,101.30"}]
[4,{"$nulls":6},"Водоснабжение (питьевая вода) (м3)",{"$nulls":32},"147,4",{"$nulls":15},"50,70",{"$nulls":31},{"v":7473.61,"d":"7,473.61"}]
[5,{"$nulls":6},"Водоотведение (м3)",{"$nulls":32},"201,4",{"$nulls":15},"121,05",{"$nulls":31},{"v":24380.08,"d":"24,380.08"}]
["6",{"$nulls":6},"Негативное воздействие",{"$nulls":32},"84",{"$nulls":15},"145,12",{"$nulls":31},{"v":12190.04,"d":"12,190.04"}]
["Итого по источнику финансового обеспечения",{"$nulls":39},"х",{"$nulls":15},"х",{"$nulls":15},"х",{"$nulls":15},{"$f":"SUM(CK276:CZ282)","v":{"v":550545.99,"d":"550,545.99"}}]
["ИТОГО",{"$nulls":87},{"$f":"CK273+CK283","v":{"v":11597857.790000001,"d":"11,597,857.79"}}]
["2.6.4. Расчет (обоснование) расходов на оплату аренды имущества"]
[]
["Код видов расходов"]
[]
["№ \nп/п",{"$nulls":6},"Наименование показателя",{"$nulls":46},"Количество",{"$nulls":15},"Ставка \nарендной \nплаты",{"$nulls":15},"Стоимость \nс учетом НДС, \nруб."]
[1,{"$nulls":6},2,{"$nulls":46},3,{"$nulls":15},4,{"$nulls":15},5]
["Источник финансового обеспечения: 4"]
[]
["Итого по источнику финансового обеспечения: ",{"$nulls":53},"х",{"$nulls":15},"х"]
["Источник финансового обеспечения: ____________________________________________________"]
[]
["Итого по источнику финансового обеспечения: ",{"$nulls":53},"х",{"$nulls":15},"х"]
["Итого: ",{"$nulls":53},"х",{"$nulls":15},"х"]
[]
["2.6.5. Расчет (обоснование) расходов на оплату работ, услуг по содержанию имущества"]
[]
["Код видов расходов",{"$nulls":21},"244"]
[]
["№ \nп/п",{"$nulls":6},"Наименование показателя",{"$nulls":46},"Количество \nработ \n(услуг)",{"$nulls":15},"Стоимость \nработ (услуг) за единицу, \nруб.",{"$nulls":15},"Стоимость \nработ (услуг) всего, \nруб."]
[1,{"$nulls":6},2,{"$nulls":46},3,{"$nulls":15},4,{"$nulls":15},5]
["Источник финансового обеспечения: 4"]
["1",{"$nulls":6},"Дератизация-дезинсекция помещений, зданий",{"$nulls":46},"2",{"$nulls":31},{"$f":"15055.5+19844.5","v":{"v":34900,"d":"34,900.00"}}]
["2",{"$nulls":6},"Обслуживание и уборка помещений, зданий, очистка кровли (договоры ГПХ+взносы, 225.01)",{"$nulls":78},{"v":80000,"d":"80,000.00"}]
["3",{"$nulls":6},"Стирка и обработка постельных принадлежностей и прочего мягкого инвентаря",{"$nulls":46},"1",{"$nulls":31},{"v":41000,"d":"41,000.00"}]
["4",{"$nulls":6},"Техническое обслуживание - поверка диэлектрических перчаток, ТО пожарного оборудования (запрака огнетушителей, испытание рукавов, тех.обслуж. и ремонт оборуд. для передачи сигн. \"пож.трев.\" в деж.часть ПЧ-61)",{"$nulls":46},"12",{"$nulls":31},{"v":80000,"d":"80,000.00"}]
["5",{"$nulls":6},"Проведение текущего ремонта недвижимого имущества (договоры ГПХ + взносы, 225.05)",{"$nulls":78},{"v":0,"d":"0.00"}]
["6",{"$nulls":6},"Проведение текущего ремонта недвижимого имущества  (1 этаж учебного корпуса)",{"$nulls":78},{"v":0,"d":"0.00"}]
["7",{"$nulls":6},"Техническое обслуживание и регламентно-профилактический ремонт видеонаблюдения",{"$nulls":62},{"v":0,"d":"0.00"},{"$nulls":15},{"v":0,"d":"0.00"}]
["8",{"$nulls":6},"Содержание и текущий ремонт общего имущества МКД",{"$nulls":46},"12",{"$nulls":31},{"v":330000,"d":"330,000.00"}]
["9",{"$nulls":6},"Техническое обслуживание индивидуального теплового пункта",{"$nulls":46},"12",{"$nulls":15},{"v":3000,"d":"3000.00"},{"$nulls":15},{"v":36000,"d":"36,000.00"}]
["10",{"$nulls":6},"Техническое обслуживание и ремонт транспортных средств, техосмотр",{"$nulls":46},"12",{"$nulls":31},{"v":78000,"d":"78,000.00"}]
["11",{"$nulls":6},"Поверка приборов учета",{"$nulls":46},"1",{"$nulls":31},{"v":37000,"d":"37,000.00"}]
["12",{"$nulls":6},"Сервисное обслуживание копировально-множительной техники",{"$nulls":46},"1",{"$nulls":31},{"v":28600,"d":"28,600.00"}]
["13",{"$nulls":6},"Прочистка и промывка канализационных колодцев, промывка и опрессовка трубопроводов",{"$nulls":46},"1",{"$nulls":31},{"v":85000,"d":"85,000.00"}]
["14",{"$nulls":6},"Обслуживание и уборка помещений, зданий, очистка кровли (договоры ГПХ+взносы, 225.99)",{"$nulls":78},{"v":75000,"d":"75,000.00"}]
["Итого по источнику финансового обеспечения: ",{"$nulls":53},"х",{"$nulls":15},"х",{"$nulls":15},{"$f":"SUM(CI306:CZ319)","v":{"v":905500,"d":"905,500.00"}}]
["Источник финансового обеспечения: 2"]
["1",{"$nulls":6},"Вознаграждение по договору ГПД (уборка 3 этажа)",{"$nulls":46},"10",{"$nulls":15},"2601,3",{"$nulls":15},{"v":35000,"d":"35,000.00"}]
["3",{"$nulls":6},"Содержание и текущий ремонт общего имущества МКД",{"$nulls":46},"12",{"$nulls":31},{"v":583456.42,"d":"583,456.42"}]
["4",{"$nulls":6},"Взнос на капитальный ремонт помещений 1 эт.общ.",{"$nulls":46},8572.58,{"$nulls":15},12,{"$nulls":15},{"v":102870,"d":"102,870.00"}]
["5",{"$nulls":6},"Комплексное обслуживание ККМ",{"$nulls":46},1,{"$nulls":15},2550,{"$nulls":15},{"v":2550,"d":"2,550.00"}]
[{"$nulls":7},"Итого по источнику финансового обеспечения: ",{"$nulls":78},{"$f":"SUM(CI322:CI325)","v":{"v":723876.42,"d":"723,876.42"}}]
["Источник финансового обеспечения: 5"]
["1",{"$nulls":53},"0",{"$nulls":15},{"v":0,"d":"0.00"},{"$nulls":15},{"$f":"BS328","v":{"v":0,"d":"0.00"}}]
["Итого по источнику финансового обеспечения: ",{"$nulls":53},"х",{"$nulls":15},"х",{"$nulls":15},{"$f":"CI328","v":{"v":0,"d":"0.00"}}]
["Итого: ",{"$nulls":53},"х",{"$nulls":15},"х",{"$nulls":15},{"$f":"CI320+CI326+CI329","v":{"v":1629376.42,"d":"1,629,376.42"}}]
[]
["2.6.6. Расчет (обоснование) расходов на оплату прочих работ, услуг"]
[]
["Код видов расходов",{"$nulls":21},"244"]
[]
["№ \nп/п",{"$nulls":6},"Наименование расходов",{"$nulls":62},"Количество договоров, ед.",{"$nulls":15},"Стоимость \nуслуг (работ), руб."]
[1,{"$nulls":6},2,{"$nulls":62},3,{"$nulls":15},4]
["Источник финансового обеспечения: 4"]
["1",{"$nulls":6},"Организация питания участников соревнований",{"$nulls":78},{"v":12000,"d":"12,000.00"}]
["2",{"$nulls":6},"Охрана недвижимого имущества, в том числе вневедомтсвенная, обеспечение пожарной безопасности, мониторинг систем охраннно-пожарной сигнализации (Страйк)",{"$nulls":78},{"v":3438760,"d":"3,438,760.00"}]
["3",{"$nulls":6},"Передача сообщение в подразделения нац.гвардии (Валдай)",{"$nulls":62},"1",{"$nulls":15},{"v":120000,"d":"120,000.00"}]
["4",{"$nulls":6},"Охранная сигнализация путем выведения на ПЦО",{"$nulls":62},"1",{"$nulls":15},{"v":200000,"d":"200,000.00"}]
["5",{"$nulls":6},"Вневедомственная охрана (УВО)",{"$nulls":62},"1",{"$nulls":15},{"v":80000,"d":"80,000.00"}]
["6",{"$nulls":6},"Услуги связи на обеспечение бесперебойной связи на тревожных кнопках",{"$nulls":62},"8",{"$nulls":15},{"v":8500,"d":"8,500.00"}]
["7",{"$nulls":6},"Проживание во время командировки (по дог.)",{"$nulls":62},"10",{"$nulls":15},{"v":11000,"d":"11,000.00"}]
["8",{"$nulls":6},"Лицензирование и сопровождение информационно-правовых и бухгалтерских программ",{"$nulls":62},"11",{"$nulls":15},{"$f":"55990+74000+3270.6+18895.5+102056+3990+4800+959+200+35703.5+135.4","v":{"v":300000,"d":"300,000.00"}}]
["9",{"$nulls":6},"Прочие расходы на участников соревнований (проживание, проезд)",{"$nulls":78},{"v":323600,"d":"323,600.00"}]
["10",{"$nulls":6},"Подписка на периодические издания"]
["11",{"$nulls":6},"Проведение предрейсовых осмотров водителей ",{"$nulls":62},"1",{"$nulls":15},{"v":27300,"d":"27,300.00"}]
["12",{"$nulls":6},"Семинары, обучения, курсы повышения квалификации",{"$nulls":62},"2",{"$nulls":15},{"v":10000,"d":"10,000.00"}]
["14",{"$nulls":6},"Вознаграждения по ГПД (с начислениями)",{"$nulls":62},5,{"$nulls":15},{"v":80000,"d":"80,000.00"}]
["15",{"$nulls":6},"Возложение цветов на праздничных мероприятиях, оформление входной группы",{"$nulls":62},3,{"$nulls":15},{"v":7000,"d":"7,000.00"}]
["16",{"$nulls":6},"Размещение отчета о деятельности учреждения",{"$nulls":62},1,{"$nulls":15},{"v":35000,"d":"35,000.00"}]
["Итого по источнику финансового обеспечения: ",{"$nulls":69},"х",{"$nulls":15},{"$f":"SUM(CI339:CZ353)","v":{"v":4653160,"d":"4,653,160.00"}}]
["Источник финансового обеспечения: 2"]
["1",{"$nulls":6},"Проживание во время командировок (по дог.)",{"$nulls":62},1,{"$nulls":15},{"v":13600,"d":"13,600.00"}]
["2",{"$nulls":6},"Вознаграждения по ГПД (с начислениями)",{"$nulls":78},{"v":230000,"d":"230,000.00"}]
["3",{"$nulls":6},"Монтаж элементов брендирования",{"$nulls":78},{"v":45000,"d":"45,000.00"}]
["4",{"$nulls":6},"Внесение изменений ва ПСД",{"$nulls":78},{"v":150000,"d":"150,000.00"}]
["5",{"$nulls":6},"Работы по оформлению стен интерьерным рисунком в помещении учебных мастерских",{"$nulls":78},{"v":450000,"d":"450,000.00"}]
["Итого по источнику финансового обеспечения: ",{"$nulls":69},"х",{"$nulls":15},{"$f":"SUM(CI356:CZ360)","v":{"v":888600,"d":"888,600.00"}}]
["Источник финансового обеспечения: 5"]
["1",{"$nulls":6},"Организационный взнос за участие в Итоговом (межрегиональном) этапе Всероссийского чемпионатного движения по профессиональному мастерству в 2025 году",{"$nulls":78},{"v":123491,"d":"123,491.00"}]
["2",{"$nulls":6},"Приобретение программных продуктов в целях создания государственной информационной системы Мурманской области по бухгалтерскому учету",{"$nulls":78},{"v":204296,"d":"204,296.00"}]
["Итого по источнику финансового обеспечения: ",{"$nulls":69},"х",{"$nulls":15},{"$f":"SUM(CI363:DA364)","v":{"v":327787,"d":"327,787.00"}}]
["Итого:",{"$nulls":69},"х",{"$nulls":15},{"$f":"CI354+CI361+CI365","v":{"v":5869547,"d":"5,869,547.00"}}]
[]
["2.6.6. Расчет (обоснование) расходов на страхование"]
[]
["Код видов расходов",{"$nulls":21},"244"]
[]
["№ \nп/п",{"$nulls":6},"Наименование расходов",{"$nulls":62},"Количество договоров, ед.",{"$nulls":15},"Стоимость \nуслуг (работ), руб."]
[1,{"$nulls":6},2,{"$nulls":62},3,{"$nulls":15},4]
["Источник финансового обеспечения: 4"]
["1",{"$nulls":6},"Обязательное страхование гражданской ответственности владельцев автотранспортных средств",{"$nulls":62},2,{"$nulls":15},{"v":15647.48,"d":"15,647.48"}]
["Итого по источнику финансового обеспечения: ",{"$nulls":69},"х",{"$nulls":15},{"$f":"CI375","v":{"v":15647.48,"d":"15,647.48"}}]
["Итого:",{"$nulls":69},"х",{"$nulls":15},{"$f":"CI375","v":{"v":15647.48,"d":"15,647.48"}}]
["2.6.7. Расчет (обоснование) расходов на приобретение основных средств"]
[]
["Код видов расходов",{"$nulls":21},"244"]
[]
["№ \nп/п",{"$nulls":6},"Наименование показателя",{"$nulls":46},"Количество",{"$nulls":15},"Средняя стоимость, руб.",{"$nulls":15},"Сумма, руб. \n(гр. 2 x гр. 3)"]
[1,{"$nulls":6},2,{"$nulls":46},3,{"$nulls":15},4,{"$nulls":15},5]
["Источник финансового обеспечения: 4"]
["1",{"$nulls":6},"Библиотечный фонд",{"$nulls":78},{"v":450000,"d":"450,000.00"}]
["2",{"$nulls":6},"Приобретение компьютеров, оргтехники",{"$nulls":78},{"v":150000,"d":"150,000.00"}]
["3",{"$nulls":6},"Приобретение бытовых приборов, мебели",{"$nulls":78},{"v":300000,"d":"300,000.00"}]
["4",{"$nulls":6},"Приобретение оборудования, прочих ОС",{"$nulls":78},{"v":260000,"d":"260,000.00"}]
["Итого по источнику финансового обеспечения: ",{"$nulls":53},"х",{"$nulls":15},"х",{"$nulls":15},{"$f":"SUM(CI385:CI388)","v":{"v":1160000,"d":"1,160,000.00"}}]
["Источник финансового обеспечения: 2"]
["1",{"$nulls":6},"Библиотечный фонд",{"$nulls":78},{"v":0,"d":"0.00"}]
["2",{"$nulls":6},"Приобретение компьютеров, оргтехники",{"$nulls":78},{"v":0,"d":"0.00"}]
["3",{"$nulls":6},"Приобретение бытовых приборов, мебели",{"$nulls":78},{"v":0,"d":"0.00"}]
["4",{"$nulls":6},"Приобретение оборудования, прочих ОС (по гранту)",{"$nulls":78},{"v":9335166.18,"d":"9,335,166.18"}]
["Итого по источнику финансового обеспечения: ",{"$nulls":53},"х",{"$nulls":15},"х",{"$nulls":15},{"$f":"SUM(CI391:CZ394)","v":{"v":9335166.18,"d":"9,335,166.18"}}]
["Источник финансового обеспечения: 5"]
["1",{"$nulls":85},{"v":0,"d":"0.00"}]
["Итого по источнику финансового обеспечения: ",{"$nulls":53},"х",{"$nulls":15},"х",{"$nulls":15},{"$f":"SUM(CI397:CI397)","v":{"v":0,"d":"0.00"}}]
["Итого:",{"$nulls":69},"х",{"$nulls":15},{"$f":"CI389+CI395+CI398","v":{"v":10495166.18,"d":"10,495,166.18"}}]
[]
["2.6.8. Расчет (обоснование) расходов на приобретение материальных запасов*"]
[]
["Код видов расходов",{"$nulls":21},"244"]
[]
["№ \nп/п",{"$nulls":6},"Наименование показателя",{"$nulls":38},"Единица измерения",{"$nulls":7},"Количество",{"$nulls":15},"Средняя стоимость, руб.",{"$nulls":15},"Сумма, руб. \n(гр. 2 x гр. 3)"]
[1,{"$nulls":6},2,{"$nulls":38},3,{"$nulls":7},4,{"$nulls":15},5,{"$nulls":15},6]
["Источник финансового обеспечения: 4"]
["1",{"$nulls":6},"Перевязочные средства и медикаменты",{"$nulls":38},"закупка",{"$nulls":7},"2",{"$nulls":31},{"v":10000,"d":"10,000.00"}]
["2",{"$nulls":6},"ГСМ",{"$nulls":38},"л.",{"$nulls":39},{"v":215000,"d":"215,000.00"}]
["3",{"$nulls":6},"Электро- и строительные материалы",{"$nulls":38},"шт",{"$nulls":39},{"v":20000,"d":"20,000.00"}]
["4",{"$nulls":6},"Спецодежда, обувь и мягкий инвентарь для работников",{"$nulls":38},"шт",{"$nulls":39},{"v":20000,"d":"20,000.00"}]
["5",{"$nulls":6},"Хозяйственные материалы, моющие и чистящие средства, канцелярские товары",{"$nulls":38},"шт",{"$nulls":39},{"$f":"781852.77+785287.3","v":{"v":1567140.07,"d":"1,567,140.07"}}]
["6",{"$nulls":6},"Прочие материальные запасы",{"$nulls":38},"шт",{"$nulls":39},{"v":10000,"d":"10,000.00"}]
["Итого по источнику финансового обеспечения: ",{"$nulls":53},"х",{"$nulls":15},"х",{"$nulls":15},{"$f":"SUM(CI408:CI413)","v":{"v":1842140.07,"d":"1,842,140.07"}}]
["Источник финансового обеспечения: 2"]
["1",{"$nulls":6},"Приобретение продуктов питания",{"$nulls":38},"шт",{"$nulls":39},{"v":200000,"d":"200,000.00"}]
["2",{"$nulls":6},"ГСМ",{"$nulls":38},"л.",{"$nulls":39},{"v":0,"d":"0.00"}]
["3",{"$nulls":6},"Спецодежда, обувь и мягкий инвентарь для работников (спорт.форма)",{"$nulls":38},"шт",{"$nulls":39},{"v":50000,"d":"50,000.00"}]
["4",{"$nulls":6},"Хозяйственные материалы, моющие и чистящие средства, канцелярские товары",{"$nulls":38},"шт",{"$nulls":39},{"v":103743.72,"d":"103,743.72"}]
["5",{"$nulls":6},"Прочие материальные запасы",{"$nulls":38},"шт",{"$nulls":39},{"v":10000,"d":"10,000.00"}]
["Итого по источнику финансового обеспечения: ",{"$nulls":53},"х",{"$nulls":15},"х",{"$nulls":15},{"$f":"SUM(CI416:CZ420)","v":{"v":363743.72,"d":"363,743.72"}}]
["Источник финансового обеспечения: 5"]
["1",{"$nulls":6},"Приобретение расходных материалов для Чемпионата по профессиональному мастерству \"Профессионалы-2025 в Мурманской области\"",{"$nulls":38},"шт",{"$nulls":39},{"$f":"1293491-123491","v":{"v":1170000,"d":"1,170,000.00"}}]
["Итого по источнику финансового обеспечения: ",{"$nulls":53},"х",{"$nulls":15},"х",{"$nulls":15},{"$f":"SUM(CI423:CZ423)","v":{"v":1170000,"d":"1,170,000.00"}}]
["Итого: ",{"$nulls":53},"х",{"$nulls":15},"х",{"$nulls":15},{"$f":"CI414+CI421+CI424","v":{"v":3375883.79,"d":"3,375,883.79"}}]
[]
[]
["2.7. Расчет (обоснование) прочих выплат"]
[]
["Код аналитической группы вида источников финансирования дефицитов"]
[]
["№ \nп/п",{"$nulls":6},"Наименование показателя",{"$nulls":46},"Объем планируемых выплат, руб."]
[1,{"$nulls":6},2,{"$nulls":46},3]
["Источник финансового обеспечения: ____________________________________________________"]
[]
["Итого по источнику финансового обеспечения: "]
["Источник финансового обеспечения: ____________________________________________________"]
[]
["Итого по источнику финансового обеспечения: "]
["Итого:"]

{"sheet":"Приложение 3","index":8,"n_rows":120,"n_cols":7,"rows_kept":120,"merged":[[0,4,0,6],[0,102,0,137],[1,4,1,6],[2,0,2,6],[3,0,4,0],[3,1,4,1],[3,2,4,2],[3,3,3,6],[9,1,10,1],[9,2,10,2],[9,3,10,3],[9,4,10,4],[9,5,10,5],[9,6,10,6],[12,1,13,1],[12,2,13,2],[12,3,13,3],[12,4,13,4],[12,5,13,5],[12,6,13,6],[15,1,16,1],[15,2,16,2],[15,3,16,3],[15,4,16,4],[15,5,16,5],[15,6,16,6],[19,1,20,1],[19,2,20,2],[19,3,20,3],[19,4,20,4],[19,5,20,5],[19,6,20,6],[24,1,25,1],[24,2,25,2],[24,3,25,3],[24,4,25,4],[24,5,25,5],[24,6,25,6],[27,1,28,1],[27,2,28,2],[27,3,28,3],[27,4,28,4],[27,5,28,5],[27,6,28,6],[41,1,42,1],[41,2,42,2],[41,3,42,3],[41,4,42,4],[41,5,42,5],[41,6,42,6],[43,1,44,1],[43,2,44,2],[43,3,44,3],[43,4,44,4],[43,5,44,5],[43,6,44,6],[48,1,49,1],[48,2,49,2],[48,3,49,3],[48,4,49,4],[48,5,49,5],[48,6,49,6],[55,1,56,1],[55,2,56,2],[55,3,56,3],[55,4,56,4],[55,5,56,5],[55,6,56,6],[58,1,59,1],[58,2,59,2],[58,3,59,3],[58,4,59,4],[58,5,59,5],[58,6,59,6],[60,1,61,1],[60,2,61,2],[60,3,61,3],[60,4,61,4],[60,5,61,5],[60,6,61,6],[67,1,68,1],[67,2,68,2],[67,3,68,3],[67,4,68,4],[67,5,68,5],[67,6,68,6],[72,1,73,1],[72,2,73,2],[72,3,73,3],[72,4,73,4],[72,5,73,5],[72,6,73,6],[82,1,83,1],[82,2,83,2],[82,3,83,3],[82,4,83,4],[82,5,83,5],[82,6,83,6],[86,1,87,1],[86,2,87,2],[86,3,87,3],[86,4,87,4],[86,5,87,5],[86,6,87,6],[92,1,93,1],[92,2,93,2],[92,3,93,3],[92,4,93,4],[92,5,93,5],[92,6,93,6],[96,1,97,1],[96,2,97,2],[96,3,97,3],[96,4,97,4],[96,5,97,5],[96,6,97,6],[100,1,101,1],[100,2,101,2],[100,3,101,3],[100,4,101,4],[100,5,101,5],[100,6,101,6],[108,1,109,1],[108,2,109,2],[108,3,109,3],[108,4,109,4],[108,5,109,5],[108,6,109,6],[113,1,114,1],[113,2,114,2],[113,3,114,3],[113,4,114,4],[113,5,114,5],[113,6,114,6],[118,1,119,1],[118,2,119,2],[118,3,119,3],[118,4,119,4],[118,5,119,5],[118,6,119,6]]}
[{"$nulls":4},"Приложение № 3"]
[{"$nulls":4},"к Порядку составления и утверждения плана финансово-хозяйственной деятельности государственных бюджетных и автономных учреждений, в отношении которых Министерство образования и науки Мурманской области осуществляет функции и полномочия учредителя, утвержденному приказом  Министерства образования и науки Мурманской области от______________________ № _________"]
["Изменение показателей по поступлениям и выплатам (+,-)"]
["Наименование показателя","Код строки","Код по БК РФ <3>"]
[{"$nulls":3},"на 20__ г. текущий финансовый год","на 20__ г. (1-й год планового периода)","на 20__ г. (2-й год планового периода)","за пределами планового периода"]
[1,2,3,4,5,6,7]
["Остаток средств на начало текущего финансового года <4>","0001","x"]
["Остаток средств на конец текущего финансового года <4>","0002","x"]
["Доходы, всего:",1000]
["в том числе:"]
[]
["доходы от собственности, всего",1100,120]
["в том числе:",1110,120]
[]
["доходы от оказания услуг, работ, компенсации затрат учреждений, всего",1200,130]
["в том числе:",1210,130]
["субсидии на финансовое обеспечение выполнения государственного (муниципального) задания за счет средств бюджета публично-правового образования, создавшего учреждение"]
["субсидии на финансовое обеспечение выполнения государственного задания за счет средств бюджета Федерального фонда обязательного медицинского страхования",1220,130]
["поступления от оказания услуг (выполнения работ) на платной основе и от иной приносящей доход деятельности",1230,130]
["из них:                           ",1231,130]
["государственные услуги"]
["дополнительные платные услуги",1232,130]
["прочие поступления",1233,130]
["доходы от штрафов, пеней, иных сумм принудительного изъятия, всего",1300,140]
["в том числе:",1310,140]
[]
["безвозмездные денежные поступления, всего",1400,150]
["в том числе:",1410,150]
["целевые субсидии"]
["субсидии на осуществление капитальных вложений",1420,150]
["прочие доходы, всего",1500,180]
["в том числе:"]
[]
["доходы от операций с активами, всего",1900]
["в том числе:"]
[]
["прочие поступления, всего <5>",1980,"x"]
["из них:"]
["увеличение остатков денежных средств за счет возврата дебиторской задолженности прошлых лет",1981,510,{"$nulls":3},"x"]
[]
["Расходы, всего",2000,"x"]
["в том числе:",2100,"x",{"$nulls":3},"x"]
["на выплаты персоналу, всего"]
["в том числе:",2110,111,{"$nulls":3},"x"]
["оплата труда"]
["прочие выплаты персоналу, в том числе компенсационного характера",2120,112,{"$nulls":3},"x"]
["иные выплаты, за исключением фонда оплаты труда учреждения, для выполнения отдельных полномочий",2130,113,{"$nulls":3},"x"]
["взносы по обязательному социальному страхованию на выплаты по оплате труда работников и иные выплаты работникам учреждений, всего",2140,119,{"$nulls":3},"x"]
["в том числе:",2141,119,{"$nulls":3},"x"]
["на выплаты по оплате труда"]
["на иные выплаты работникам",2142,119,{"$nulls":3},"x"]
["денежное довольствие военнослужащих и сотрудников, имеющих специальные звания",2150,131,{"$nulls":3},"x"]
["расходы на выплаты военнослужащим и сотрудникам, имеющим специальные звания, зависящие от размера денежного довольствия",2160,133]
["иные выплаты военнослужащим и сотрудникам, имеющим специальные звания",2170,134,{"$nulls":3},"x"]
["страховые взносы на обязательное социальное страхование в части выплат персоналу, подлежащих обложению страховыми взносами",2180,139,{"$nulls":3},"x"]
["в том числе:",2181,139,{"$nulls":3},"x"]
["на оплату труда стажеров"]
["социальные и иные выплаты населению, всего",2200,300,{"$nulls":3},"x"]
["в том числе:",2210,320,{"$nulls":3},"x"]
["социальные выплаты гражданам, кроме публичных нормативных социальных выплат"]
["из них:",2211,321,{"$nulls":3},"x"]
["пособия, компенсации и иные социальные выплаты гражданам, кроме публичных нормативных обязательств"]
["приобретение товаров, работ, услуг в пользу граждан в целях их социального обеспечения",2212,323,{"$nulls":3},"x"]
["выплата стипендий, осуществление иных расходов на социальную поддержку обучающихся за счет средств стипендиального фонда",2220,340,{"$nulls":3},"x"]
["на премирование физических лиц за достижения в области культуры, искусства, образования, науки и техники, а также на предоставление грантов с целью поддержки проектов в области науки, культуры и искусства",2230,350,{"$nulls":3},"x"]
["иные выплаты населению",2240,360,{"$nulls":3},"x"]
["уплата налогов, сборов и иных платежей, всего",2300,850,{"$nulls":3},"x"]
["в том числе:",2310,851,{"$nulls":3},"x"]
["налог на имущество организаций и земельный налог"]
["иные налоги (включаемые в состав расходов) в бюджеты бюджетной системы Российской Федерации, а также государственная пошлина",2320,852,{"$nulls":3},"x"]
["уплата штрафов (в том числе административных), пеней, иных платежей",2330,853,{"$nulls":3},"x"]
["безвозмездные перечисления организациям и физическим лицам, всего",2400,"x",{"$nulls":3},"x"]
["из них:",2410,613,{"$nulls":3},"x"]
["гранты, предоставляемые бюджетным учреждениям"]
["гранты, предоставляемые автономным учреждениям",2420,623]
["гранты, предоставляемые иным некоммерческим организациям (за исключением бюджетных и автомомных учреждений)",2430,634]
["гранты, предоставляемые другим организациям и физическим лицам",2440,810]
["взносы в международные организации",2450,862]
["платежи в целях обеспечения реализации соглашений с правительствами иностранных государств и международными организациями",2460,863,{"$nulls":3},"x"]
["прочие выплаты (кроме выплат на закупку товаров, работ, услуг)",2500,"x",{"$nulls":3},"x"]
["исполнение судебных актов Российской Федерации и мировых соглашений по возмещению вреда, причиненного в результате деятельности учреждения",2520,831,{"$nulls":3},"x"]
["расходы на закупку товаров, работ, услуг, всего <6>",2600,"x"]
["в том числе:",2610,241]
["закупку научно-исследовательских и опытно-конструкторских работ"]
["закупку товаров, работ, услуг в целях капитального ремонта государственного (муниципального) имущества",2630,243]
["прочую закупку товаров, работ и услуг, всего",2640,244]
["в том числе:",2641,244]
["   услуги связи"]
["   транспортные расходы",2642,244]
["   коммунальные услуги",2643,244]
["   арендная плата за пользование имуществом",2644,244]
["   работы, услуги по содержанию имущества, всего",2645,244]
["в том числе:"]
["     текущий   ремонт движимого имущества"]
["     текущий   ремонт недвижимого имущества"]
["   прочие работы, услуги, всего",2646,244]
[" в том числе:"]
["      организация питания"]
["   увеличение стоимости основных средств",2647,244]
["   увеличение стоимости материальных запасов, всего",2648,244]
["в том числе:"]
["      медикаменты и перевязочные средства"]
["      горюче-смазочные материалы"]
["      продукты питания"]
["      мягкий инвентарь"]
[" закупку товаров, работ, услуг в целях создания, развития, эксплуатации и вывода из эксплуатации государственных информационных систем",2650,246]
[" закупку энергетических ресурсов",2660,247]
["капитальные вложения в объекты государственной (муниципальной) собственности, всего",2700,400]
["в том числе:",2710,406]
["приобретение объектов недвижимого имущества государственными (муниципальными) учреждениями"]
["строительство (реконструкция) объектов недвижимого имущества государственными (муниципальными) учреждениями",2720,407]
["специальные расходы",2800,880]
["Выплаты, уменьшающие доход, всего <7>",3000,100,{"$nulls":3},"x"]
["в том числе:",3010,{"$nulls":4},"x"]
["налог на прибыль"]
["налог на добавленную стоимость",3020,{"$nulls":4},"x"]
["прочие налоги, уменьшающие доход",3030,{"$nulls":4},"x"]
["Прочие выплаты, всего <8>",4000,"x",{"$nulls":3},"x"]
["из них:",4010,610,{"$nulls":3},"x"]
["возврат в бюджет средств субсидии"]